BEGIN:VCALENDAR
VERSION:2.0
PRODID:-//MuniSERV - ECPv6.15.12.2//NONSGML v1.0//EN
CALSCALE:GREGORIAN
METHOD:PUBLISH
X-WR-CALNAME:MuniSERV
X-ORIGINAL-URL:https://muniserv.ca
X-WR-CALDESC:Events for MuniSERV
REFRESH-INTERVAL;VALUE=DURATION:PT1H
X-Robots-Tag:noindex
X-PUBLISHED-TTL:PT1H
BEGIN:VTIMEZONE
TZID:America/Toronto
BEGIN:DAYLIGHT
TZOFFSETFROM:-0500
TZOFFSETTO:-0400
TZNAME:EDT
DTSTART:20170312T070000
END:DAYLIGHT
BEGIN:STANDARD
TZOFFSETFROM:-0400
TZOFFSETTO:-0500
TZNAME:EST
DTSTART:20171105T060000
END:STANDARD
BEGIN:DAYLIGHT
TZOFFSETFROM:-0500
TZOFFSETTO:-0400
TZNAME:EDT
DTSTART:20180311T070000
END:DAYLIGHT
BEGIN:STANDARD
TZOFFSETFROM:-0400
TZOFFSETTO:-0500
TZNAME:EST
DTSTART:20181104T060000
END:STANDARD
BEGIN:DAYLIGHT
TZOFFSETFROM:-0500
TZOFFSETTO:-0400
TZNAME:EDT
DTSTART:20190310T070000
END:DAYLIGHT
BEGIN:STANDARD
TZOFFSETFROM:-0400
TZOFFSETTO:-0500
TZNAME:EST
DTSTART:20191103T060000
END:STANDARD
END:VTIMEZONE
BEGIN:VEVENT
DTSTART;TZID=America/Toronto:20180712T140000
DTEND;TZID=America/Toronto:20180712T150000
DTSTAMP:20260425T132828
CREATED:20180626T140020Z
LAST-MODIFIED:20180626T140020Z
UID:15029-1531404000-1531407600@muniserv.ca
SUMMARY:The Emerging Leader Part 2 – Live Webinar Presented by Corey Atkinson
DESCRIPTION:Join Corey Atkinson for CSPN’s Webinar Series. Register early! \nTopic: The Emerging Leader Part 2 \nCost: FREE \nOverview \nCompanies across every industry are facing complex organizational challenges that require the rapid development of new leaders. Advancing from a technical track to a leadership position requires more than solid management skills. \nMore than ever before\, emerging leaders must quickly learn and deploy core management skills\, develop a broad strategic perspective\, take their leadership skills to the next level\, and expand their professional and personal networks. \nEmerging Leaders also need to take control of their career destiny\, kick start their personal branding and embrace the concepts of self-guidance and continuous improvement. \nTo Register\, please click here 
URL:https://muniserv.ca/event/the-emerging-leader-part-2-live-webinar-presented-by-corey-atkinson
CATEGORIES:Training Sessions,Webinars
ATTACH;FMTTYPE=image/jpeg:https://muniserv.ca/wp-content/uploads/CSPN20Emerging20Leaders20Webinar-01_preview_jpeg.jpg
END:VEVENT
END:VCALENDAR