BEGIN:VCALENDAR
VERSION:2.0
PRODID:-//MuniSERV - ECPv6.15.12.2//NONSGML v1.0//EN
CALSCALE:GREGORIAN
METHOD:PUBLISH
X-WR-CALNAME:MuniSERV
X-ORIGINAL-URL:https://muniserv.ca
X-WR-CALDESC:Events for MuniSERV
REFRESH-INTERVAL;VALUE=DURATION:PT1H
X-Robots-Tag:noindex
X-PUBLISHED-TTL:PT1H
BEGIN:VTIMEZONE
TZID:America/Toronto
BEGIN:DAYLIGHT
TZOFFSETFROM:-0500
TZOFFSETTO:-0400
TZNAME:EDT
DTSTART:20170312T070000
END:DAYLIGHT
BEGIN:STANDARD
TZOFFSETFROM:-0400
TZOFFSETTO:-0500
TZNAME:EST
DTSTART:20171105T060000
END:STANDARD
BEGIN:DAYLIGHT
TZOFFSETFROM:-0500
TZOFFSETTO:-0400
TZNAME:EDT
DTSTART:20180311T070000
END:DAYLIGHT
BEGIN:STANDARD
TZOFFSETFROM:-0400
TZOFFSETTO:-0500
TZNAME:EST
DTSTART:20181104T060000
END:STANDARD
BEGIN:DAYLIGHT
TZOFFSETFROM:-0500
TZOFFSETTO:-0400
TZNAME:EDT
DTSTART:20190310T070000
END:DAYLIGHT
BEGIN:STANDARD
TZOFFSETFROM:-0400
TZOFFSETTO:-0500
TZNAME:EST
DTSTART:20191103T060000
END:STANDARD
END:VTIMEZONE
BEGIN:VEVENT
DTSTART;TZID=America/Toronto:20180906T140000
DTEND;TZID=America/Toronto:20180906T150000
DTSTAMP:20260425T103354
CREATED:20180626T140438Z
LAST-MODIFIED:20180626T140438Z
UID:15032-1536242400-1536246000@muniserv.ca
SUMMARY:World Class Customer Experience – Live Webinar Presented by Corey Atkinson
DESCRIPTION:Join Corey Atkinson for CSPN’s Webinar Series. Register early! \nTopic: World Class Customer Experience \nCost: FREE \nOverview: \nNow\, more than ever\, we are under a microscope. The online social media world – Google Reviews\, Amazon\, Yelp \,etc – is waiting to pounce with bad-good-better-best experiences to be starred\, told\, retold\, or forgotten – in the real world. In this environment\, how do we avoid the embarrassing “How did that happen?!” moments and instead drive the right customer experiences that we want people to talk about and remember? \nThis webinar will cover the must have strategies to be able to provide world class customer experience. These insights will allow you to gauge how effective your organization is at bringing to life the customer experience you imagine. \nTo Register\, please click here 
URL:https://muniserv.ca/event/world-class-customer-experience-live-webinar-presented-by-corey-atkinson
CATEGORIES:Training Sessions,Webinars
ATTACH;FMTTYPE=image/jpeg:https://muniserv.ca/wp-content/uploads/CSPN20-20World20Class20CX20Webinar-01_preview_jpeg.jpg
END:VEVENT
END:VCALENDAR