BEGIN:VCALENDAR
VERSION:2.0
PRODID:-//MuniSERV - ECPv6.15.12.2//NONSGML v1.0//EN
CALSCALE:GREGORIAN
METHOD:PUBLISH
X-ORIGINAL-URL:https://muniserv.ca
X-WR-CALDESC:Events for MuniSERV
REFRESH-INTERVAL;VALUE=DURATION:PT1H
X-Robots-Tag:noindex
X-PUBLISHED-TTL:PT1H
BEGIN:VTIMEZONE
TZID:America/Toronto
BEGIN:DAYLIGHT
TZOFFSETFROM:-0500
TZOFFSETTO:-0400
TZNAME:EDT
DTSTART:20180311T070000
END:DAYLIGHT
BEGIN:STANDARD
TZOFFSETFROM:-0400
TZOFFSETTO:-0500
TZNAME:EST
DTSTART:20181104T060000
END:STANDARD
BEGIN:DAYLIGHT
TZOFFSETFROM:-0500
TZOFFSETTO:-0400
TZNAME:EDT
DTSTART:20190310T070000
END:DAYLIGHT
BEGIN:STANDARD
TZOFFSETFROM:-0400
TZOFFSETTO:-0500
TZNAME:EST
DTSTART:20191103T060000
END:STANDARD
BEGIN:DAYLIGHT
TZOFFSETFROM:-0500
TZOFFSETTO:-0400
TZNAME:EDT
DTSTART:20200308T070000
END:DAYLIGHT
BEGIN:STANDARD
TZOFFSETFROM:-0400
TZOFFSETTO:-0500
TZNAME:EST
DTSTART:20201101T060000
END:STANDARD
END:VTIMEZONE
BEGIN:VEVENT
DTSTART;TZID=America/Toronto:20190115T120000
DTEND;TZID=America/Toronto:20190115T130000
DTSTAMP:20260422T200544
CREATED:20181126T140217Z
LAST-MODIFIED:20190108T122134Z
UID:16975-1547553600-1547557200@muniserv.ca
SUMMARY:Free Webinar: Learn to Zoom
DESCRIPTION:Are you looking for another option to meet with your clients\, colleagues or team members? If so\, this webinar is for you!  \nWe will walk through the basic workings of Zoom and you’ll have an opportunity to play with some of the great features. You will also learn how you can use Zoom to host very effective meetings without having to leave your office! \nWhen: Jan 15\, 2019 12:00 PM Eastern Time (US and Canada)  \nHow to Join: Please register here.   \nAfter registering\, you will receive a confirmation email containing information about joining the meeting. \nCheetah Fusion Creative Agency\nstrategy • branding • marketing • social media • coaching • web \n54 Cedar Pointe Drive\, Unit 1207\, Barrie ON  L4N 5R7 \n705•302•3386 | www.cheetahfusion.com | Facebook | LinkedIn \n 
URL:https://muniserv.ca/event/free-webinar-learn-to-zoom
CATEGORIES:Webinars
ATTACH;FMTTYPE=image/png:https://muniserv.ca/wp-content/uploads/CheetahFusion_Logo_FV.png
END:VEVENT
BEGIN:VEVENT
DTSTART;TZID=America/Toronto:20190116T130000
DTEND;TZID=America/Toronto:20190116T140000
DTSTAMP:20260422T200544
CREATED:20181130T201347Z
LAST-MODIFIED:20181130T201347Z
UID:17024-1547643600-1547647200@muniserv.ca
SUMMARY:Free Webinar - Finding the Right Hire.  How and When to use Psychometrics in the Hiring Process
DESCRIPTION:More and more municipalities are recognizing the importance of developing pre-employment strategies as part of their recruitment and selection process\, in order to recruit the right people and build the right teams. \nYou know making the wrong hire can be a very expensive and time consuming mistake. Not only does it result in additional costs but it can be multiplied by lost opportunities\, duplicating training/on-boarding efforts of other team members\, potential legal issues and much more. \nIn this interactive workshop webinar\, you will build the skills and knowledge to develop the ideal candidate attitudes and motivators for a position\, construct the perfect candidate profile\, attract the correct individuals and make the right fit for your culture. \nJoin us on Wednesday\, January 16th at 1:00 p.m. Eastern for this complimentary webinar \nPlease REGISTER HERE for this  exclusive free opportunity! \nProudly sponsored by muniJOBS.ca (a div of muniSERV.ca)\, and delivered by Gail Green\, President\, Emergenetics International – Canada/ Ontario.
URL:https://muniserv.ca/event/free-webinar-finding-the-right-hire-how-and-when-to-use-psychometrics-in-the-hiring-process
CATEGORIES:Webinars
ATTACH;FMTTYPE=image/png:https://muniserv.ca/wp-content/uploads/Emergenetics-Newsletter-banner.png
END:VEVENT
BEGIN:VEVENT
DTSTART;TZID=America/Toronto:20190130T130000
DTEND;TZID=America/Toronto:20190130T140000
DTSTAMP:20260422T200544
CREATED:20190123T170117Z
LAST-MODIFIED:20190123T170117Z
UID:17705-1548853200-1548856800@muniserv.ca
SUMMARY:Free Webinar - Leading the Ins & Outs of Cognitive Diversity
DESCRIPTION:It’s almost here! Please take advantage of this special invitation to register for our Free Webinar!  \nLeading the Ins and Outs of Cognitive Diversity \nJan 30\, 2019 @ 1 p.m. EST\, 2 p.m. AST\, 2:30 p.m. NST  \nPlease REGISTER HERE for this exclusive free opportunity! \nOur on-line experience will help you explore how to build better teams and a positive workplace culture. Based on the principles of Emergenetics\, you will learn to improve communication\, connection\, and performance through an enlightening process of self-awareness and discovery. Learn how the real magic happens when teams can be built synergistically\, and team members can collaborate more effectively by “borrowing another person’s brain.”  \nThis webinar address will include: •Reflective activities to connect concepts to personal cognitive strengths and team members cognitive strengths •Scientific background on how we work and establish neuro-pathways •Story-telling and activities to illustrate concepts.  \nI sincerely hope you will take full advantage of this invitation and informative experience!  \nwith thanks\,  \nGail
URL:https://muniserv.ca/event/free-webinar-leading-the-ins-outs-of-cognitive-diversity
CATEGORIES:Webinars
ATTACH;FMTTYPE=image/png:https://muniserv.ca/wp-content/uploads/Emergenetics-logo.png
END:VEVENT
END:VCALENDAR