BEGIN:VCALENDAR
VERSION:2.0
PRODID:-//MuniSERV - ECPv6.15.12.2//NONSGML v1.0//EN
CALSCALE:GREGORIAN
METHOD:PUBLISH
X-ORIGINAL-URL:https://muniserv.ca
X-WR-CALDESC:Events for MuniSERV
REFRESH-INTERVAL;VALUE=DURATION:PT1H
X-Robots-Tag:noindex
X-PUBLISHED-TTL:PT1H
BEGIN:VTIMEZONE
TZID:America/Toronto
BEGIN:DAYLIGHT
TZOFFSETFROM:-0500
TZOFFSETTO:-0400
TZNAME:EDT
DTSTART:20180311T070000
END:DAYLIGHT
BEGIN:STANDARD
TZOFFSETFROM:-0400
TZOFFSETTO:-0500
TZNAME:EST
DTSTART:20181104T060000
END:STANDARD
BEGIN:DAYLIGHT
TZOFFSETFROM:-0500
TZOFFSETTO:-0400
TZNAME:EDT
DTSTART:20190310T070000
END:DAYLIGHT
BEGIN:STANDARD
TZOFFSETFROM:-0400
TZOFFSETTO:-0500
TZNAME:EST
DTSTART:20191103T060000
END:STANDARD
BEGIN:DAYLIGHT
TZOFFSETFROM:-0500
TZOFFSETTO:-0400
TZNAME:EDT
DTSTART:20200308T070000
END:DAYLIGHT
BEGIN:STANDARD
TZOFFSETFROM:-0400
TZOFFSETTO:-0500
TZNAME:EST
DTSTART:20201101T060000
END:STANDARD
END:VTIMEZONE
BEGIN:VEVENT
DTSTART;TZID=America/Toronto:20191204T210000
DTEND;TZID=America/Toronto:20191204T220000
DTSTAMP:20260422T025120
CREATED:20191111T142901Z
LAST-MODIFIED:20191119T144709Z
UID:22997-1575493200-1575496800@muniserv.ca
SUMMARY:Free Webinar - Discover Your Strengths
DESCRIPTION:Wednesday\, Dec 4 @ 7pm Mountain / 9pm Eastern \nEvery successful person got there because someone else gave them a leg-up.\nHere’s yours. Take it. \nLearn More and Register Here
URL:https://muniserv.ca/event/free-webinar-discover-your-strengths
CATEGORIES:Webinars
ATTACH;FMTTYPE=image/png:https://muniserv.ca/wp-content/uploads/LevellingUp.png
END:VEVENT
BEGIN:VEVENT
DTSTART;TZID=America/Toronto:20191211T140000
DTEND;TZID=America/Toronto:20191211T150000
DTSTAMP:20260422T025120
CREATED:20191203T112356Z
LAST-MODIFIED:20191203T112356Z
UID:23297-1576072800-1576076400@muniserv.ca
SUMMARY:Moving to an E-Agenda System
DESCRIPTION:Are you thinking of moving your board\, committee or municipal council to an electronic agenda meeting management system?  Do all the different solutions\, features and change management involved have you feeling overwhelmed?  Let’s discuss the things you need to consider before you make the change. \nJoin Debi Wilcox – The Meeting Guru – for this  30 minute Meeting Management Speaker Series webinar on December 11\, 2019 at 2:00 pm ET.  Don’t worry if you can’t make the live webinar\, it will be recorded and accessible afterwards using the event link. \nIn this session\, Debi will cover: \n\nwhat exactly is an e-agenda meeting management system\nis an e-agenda system right for your organization\nwhat features to consider to meet your needs\nwhat you need to know before you start an e-agenda project\ntransitioning from one vendor to another – handling the change\nhow to successfully communicate and launch your e-agenda project.\n\nIt’s all about Making Meetings Simple!  Debi will provide you with some valuable tips to help you out.  If you would like any questions answered during the session\, just send Debi an email prior to December 11\, 2019 to debi@debiwilcox.com \nLearn More & Register  \n 
URL:https://muniserv.ca/event/moving-to-an-e-agenda-system
CATEGORIES:Webinars
ATTACH;FMTTYPE=image/png:https://muniserv.ca/wp-content/uploads/Debi-Wilcox-event-cover-4517.png
END:VEVENT
BEGIN:VEVENT
DTSTART;TZID=America/Toronto:20191212T133000
DTEND;TZID=America/Toronto:20191212T153000
DTSTAMP:20260422T025120
CREATED:20191202T175027Z
LAST-MODIFIED:20191202T175027Z
UID:23288-1576157400-1576164600@muniserv.ca
SUMMARY:Utilizing Search Engine Optimization (SEO) to Enhance Your Online Visibility  
DESCRIPTION:Utilizing Search Engine Optimization (SEO) to Enhance Your Online Visibility   \nSearch Engine Optimization (SEO) refers to the method used to increase a website’s position on search engine results pages on sites such as Google\, Yahoo\, or Bing. Developing an SEO strategy for your municipality can help draw consumer traffic to your website and contribute to economic development and tourism. In this webinar\, we show you how to take advantage of SEO to better position your website on results pages and enhance your online visibility. \nJoin our webinar to learn: \n\nWhat Search Engine Optimization (SEO) can do for your organization and why it’s so important for users trying to find information\nHow to develop a simple SEO strategy that will work for your municipality\n\nThe benefits of strong SEO application when working with economic development and tourism partners and targeted audiences. \nThursday\, December 12\, 2019 – 1:30 p.m. – 3:30 p.m. Eastern \nRegister here \nPresented by: Oliver Ibanez\, Senior Front End Developer & User Experience Specialist \nAs an accomplished web designer\, digital marketer and certified UX specialist\, Oliver has over 15 years of experience building\, managing and promoting websites. With strong foundations in design\, programming and internet marketing\, Oliver is able to build highly intuitive\, feature-rich websites with emphasis on conversion and traffic generation. As a front-end developer\, Oliver strives to stay ahead of the pack by analyzing the latest cutting edge technologies and design techniques\, and how they can be applied to creating effective user experiences. Oliver continuously reviews Google’s latest algorithm updates\, search engine optimization (SEO) techniques\, social media strategies and traffic analysis in order to provide better advice and services to project stakeholders. \nWe hope you learn lots and enjoy the webinar! \nThank you\, \neSolutionsGroup
URL:https://muniserv.ca/event/utilizing-search-engine-optimization-seo-to-enhance-your-online-visibility
CATEGORIES:Webinars
ATTACH;FMTTYPE=image/png:https://muniserv.ca/wp-content/uploads/eSolutions-logo2x-1.png
END:VEVENT
END:VCALENDAR