BEGIN:VCALENDAR
VERSION:2.0
PRODID:-//MuniSERV - ECPv6.15.12.2//NONSGML v1.0//EN
CALSCALE:GREGORIAN
METHOD:PUBLISH
X-WR-CALNAME:MuniSERV
X-ORIGINAL-URL:https://muniserv.ca
X-WR-CALDESC:Events for MuniSERV
REFRESH-INTERVAL;VALUE=DURATION:PT1H
X-Robots-Tag:noindex
X-PUBLISHED-TTL:PT1H
BEGIN:VTIMEZONE
TZID:America/Toronto
BEGIN:DAYLIGHT
TZOFFSETFROM:-0500
TZOFFSETTO:-0400
TZNAME:EDT
DTSTART:20190310T070000
END:DAYLIGHT
BEGIN:STANDARD
TZOFFSETFROM:-0400
TZOFFSETTO:-0500
TZNAME:EST
DTSTART:20191103T060000
END:STANDARD
BEGIN:DAYLIGHT
TZOFFSETFROM:-0500
TZOFFSETTO:-0400
TZNAME:EDT
DTSTART:20200308T070000
END:DAYLIGHT
BEGIN:STANDARD
TZOFFSETFROM:-0400
TZOFFSETTO:-0500
TZNAME:EST
DTSTART:20201101T060000
END:STANDARD
BEGIN:DAYLIGHT
TZOFFSETFROM:-0500
TZOFFSETTO:-0400
TZNAME:EDT
DTSTART:20210314T070000
END:DAYLIGHT
BEGIN:STANDARD
TZOFFSETFROM:-0400
TZOFFSETTO:-0500
TZNAME:EST
DTSTART:20211107T060000
END:STANDARD
END:VTIMEZONE
BEGIN:VEVENT
DTSTART;TZID=America/Toronto:20200206T130000
DTEND;TZID=America/Toronto:20200206T132000
DTSTAMP:20260421T234101
CREATED:20200107T134018Z
LAST-MODIFIED:20200107T134756Z
UID:23764-1580994000-1580995200@muniserv.ca
SUMMARY:Grant Funding Opportunities for Canadian Municipalities
DESCRIPTION:The PSD Research team will provide an overview of grant funding opportunities for Canadian municipalities on a monthly basis. \nEach month we will highlight any grants with an approaching deadline and/or ongoing grant programs. Please join us to find out about grant opportunities for your municipality! \nOne week before each monthly grant funding webinar\, the PSD policy team will update registrants on which grant applications will be covered that month. \nUPCOMING SESSIONS \nFebruary 6th\, 2020\nMarch 12th\, 2020\n*NOTE* Each session date is available at 1:00pm – 1:20pm ET \nRegister Here
URL:https://muniserv.ca/event/grant-funding-opportunities-for-canadian-municipalities-2
CATEGORIES:Webinars
ATTACH;FMTTYPE=image/jpeg:https://muniserv.ca/wp-content/uploads/Grant-Funding-PSD.jpg
END:VEVENT
BEGIN:VEVENT
DTSTART;TZID=America/Toronto:20200220T133000
DTEND;TZID=America/Toronto:20200220T143000
DTSTAMP:20260421T234101
CREATED:20200218T200459Z
LAST-MODIFIED:20200218T200459Z
UID:24536-1582205400-1582209000@muniserv.ca
SUMMARY:Webinar Series - Get Ready for 2021 AODA Deadline
DESCRIPTION:By January 1\, 2021\, all public sector organizations in Ontario must have 100% accessible web content\, meeting the accessibility requirements of Web Content Accessibility Guidelines (WCAG) 2.0 Level AA. \nIn this webinar\, we will guide you through what you need to know before the deadline arrives\, including website necessities\, ways to meet the requirements\, and creating an accessibility playbook to ensure your team is compliant by 2021. \nThursday\, February 20\, 2020 \n1:30 p.m. – 2:30 p.m. \nClick Here to Register
URL:https://muniserv.ca/event/webinar-series-get-ready-for-2021-aoda-deadline
CATEGORIES:Webinars
ATTACH;FMTTYPE=image/png:https://muniserv.ca/wp-content/uploads/eSolutions.png
END:VEVENT
BEGIN:VEVENT
DTSTART;TZID=America/Toronto:20200225T110000
DTEND;TZID=America/Toronto:20200225T120000
DTSTAMP:20260421T234101
CREATED:20200225T145422Z
LAST-MODIFIED:20200225T145422Z
UID:24694-1582628400-1582632000@muniserv.ca
SUMMARY:Webinar - Grant Writing 101:  Putting Money in  Your Community
DESCRIPTION:Municipalities of Saskatchewan presents: Grant Writing 101: Putting Money in Your Community \nApplying for project grants can cost your municipality not only time but also money through staff time\, and there’s no guarantee your application will be accepted. Learn how to increase your chances of grant success in the webinar\, Grant Writing 101: Putting Money in Your Community. \nJoin Lorri Matthewson\, owner of Solomon Matthewson Consulting\, today at 10:00 a.m. (CST) 11:00 EST to hear tips on how to write grants efficiently and make your grant proposals stand out from the rest. \nTo Register Click Here 
URL:https://muniserv.ca/event/webinar-grant-writing-101-putting-money-in-your-community
CATEGORIES:Webinars
ATTACH;FMTTYPE=image/jpeg:https://muniserv.ca/wp-content/uploads/grant_writing_zoom_banner.jpg
END:VEVENT
BEGIN:VEVENT
DTSTART;TZID=America/Toronto:20200226T133000
DTEND;TZID=America/Toronto:20200226T140000
DTSTAMP:20260421T234101
CREATED:20200222T202607Z
LAST-MODIFIED:20200224T131659Z
UID:24642-1582723800-1582725600@muniserv.ca
SUMMARY:Free Webinar - Understanding & Managing People from Different Cultures
DESCRIPTION:Understanding & Managing People from Different Cultures  \nYou’ll learn about: \n\nDifferent Levels of Culture \nCross-Cultural “Do’s” & “Don’ts”\n\nDate:  February 26\, 2020 at 1:30 PM Eastern Time (US and Canada)  \nJoin me on this Free Webinar with this link and Meeting ID 257-363-681 \nSee my profile to learn how I can help your municipality.
URL:https://muniserv.ca/event/free-webinar-understanding-managing-people-from-different-cultures
CATEGORIES:Webinars
ATTACH;FMTTYPE=image/png:https://muniserv.ca/wp-content/uploads/Bills-webinar-Picture2.png
END:VEVENT
BEGIN:VEVENT
DTSTART;TZID=America/Toronto:20200228T133000
DTEND;TZID=America/Toronto:20200228T140000
DTSTAMP:20260421T234101
CREATED:20200224T132117Z
LAST-MODIFIED:20200224T132117Z
UID:24645-1582896600-1582898400@muniserv.ca
SUMMARY:Free Webinar - Understanding & Managing People from Different Cultures
DESCRIPTION:Understanding & Managing People from Different Cultures \nWe’ll discuss; \n\nDifferent Levels of Culture; \nCross-Cultural “Do’s” & “Don’ts”; T\n\nTeams; Management; Front-Line Employees; Recruiting; Inclusion; Tools \nDate:  Feburary 28\, 2020 at 1:30 PM Eastern Time (US and Canada) \nJoin me at this link and use Meeting ID 594-361-235 \nSee my profile to learn more about how I can help your municipality.
URL:https://muniserv.ca/event/free-webinar-understanding-managing-people-from-different-cultures-2
CATEGORIES:Webinars
ATTACH;FMTTYPE=image/png:https://muniserv.ca/wp-content/uploads/Bills-webinar-Picture2.png
END:VEVENT
END:VCALENDAR