BEGIN:VCALENDAR
VERSION:2.0
PRODID:-//MuniSERV - ECPv6.15.12.2//NONSGML v1.0//EN
CALSCALE:GREGORIAN
METHOD:PUBLISH
X-ORIGINAL-URL:https://muniserv.ca
X-WR-CALDESC:Events for MuniSERV
REFRESH-INTERVAL;VALUE=DURATION:PT1H
X-Robots-Tag:noindex
X-PUBLISHED-TTL:PT1H
BEGIN:VTIMEZONE
TZID:America/Toronto
BEGIN:DAYLIGHT
TZOFFSETFROM:-0500
TZOFFSETTO:-0400
TZNAME:EDT
DTSTART:20190310T070000
END:DAYLIGHT
BEGIN:STANDARD
TZOFFSETFROM:-0400
TZOFFSETTO:-0500
TZNAME:EST
DTSTART:20191103T060000
END:STANDARD
BEGIN:DAYLIGHT
TZOFFSETFROM:-0500
TZOFFSETTO:-0400
TZNAME:EDT
DTSTART:20200308T070000
END:DAYLIGHT
BEGIN:STANDARD
TZOFFSETFROM:-0400
TZOFFSETTO:-0500
TZNAME:EST
DTSTART:20201101T060000
END:STANDARD
BEGIN:DAYLIGHT
TZOFFSETFROM:-0500
TZOFFSETTO:-0400
TZNAME:EDT
DTSTART:20210314T070000
END:DAYLIGHT
BEGIN:STANDARD
TZOFFSETFROM:-0400
TZOFFSETTO:-0500
TZNAME:EST
DTSTART:20211107T060000
END:STANDARD
END:VTIMEZONE
BEGIN:VEVENT
DTSTART;TZID=America/Toronto:20200402T120000
DTEND;TZID=America/Toronto:20200402T130000
DTSTAMP:20260421T205112
CREATED:20200330T173559Z
LAST-MODIFIED:20200330T173559Z
UID:25146-1585828800-1585832400@muniserv.ca
SUMMARY:Free Webinar - Managing a Team who is Working from Home
DESCRIPTION:Are you managing a team who is now working from home? \nThursday\, April 2nd\, at 12:00 noon EST/10:00 Mountain \nFirst off\, thank you for taking the need to flatten the curve seriously. Now let us provide you with some helpful tools (policies\, procedures) and tips to maintaining an effective remote team! \n\nErica Thomas\, MBA and I are excited to partner our two companies\, The Ontario Municipal Leadership Institute and Transitional Solutions Inc. to provide a FREE one-hour webinar on Thursday April 2nd 12:00 pm EST/10:00 am Mountain \nClick the following link to register: https://attendee.gototraining.com/rt/4416534105522755585 \nAngela Gravelle\nExecutive Director\, Ontario Municipal Leadership Institute (OMLI)\n#coronavirus #worklife #workingathome #municipality #municipal #cao #councils #localgov #localgovernment #onpoli #leadership #technology #leansixsigma #leanmanagement #omlilean #government #ontario #publicpolicy #policies #civilsociety #worklifebalance #newnormal #munigov
URL:https://muniserv.ca/event/free-webinar-managing-a-team-who-is-working-from-home
CATEGORIES:Webinars
ATTACH;FMTTYPE=image/jpeg:https://muniserv.ca/wp-content/uploads/Work-from-Home.jpeg
END:VEVENT
BEGIN:VEVENT
DTSTART;TZID=America/Toronto:20200403T120000
DTEND;TZID=America/Toronto:20200403T130000
DTSTAMP:20260421T205112
CREATED:20200329T113840Z
LAST-MODIFIED:20200330T172657Z
UID:25120-1585915200-1585918800@muniserv.ca
SUMMARY:Free Webinar - Managing a Team Who is Now Working From Home
DESCRIPTION:Are you managing a team who is now working from home? \nDue to the overwhelming response to our April 2nd webinar\, we are adding two more opportunities to join these webinars. \nFriday April 3rd\, at 12:00 noon and again at 2:00 p.m. EST \nFirst off\, thank you for taking the need to flatten the curve seriously. Now let us provide you with some helpful tools (policies\, procedures) and tips to maintaining an effective remote team! \nErica Thomas\, MBA and I are excited to partner our two companies\, The Ontario Municipal Leadership Institute and Transitional Solutions Inc. to provide two more FREE one-hour webinars on Friday April 3rd at 12pm and 2:00 p.m. EST \nClick the following link to register: https://attendee.gototraining.com/rt/4416534105522755585 \nAngela Gravelle\nExecutive Director\, Ontario Municipal Leadership Institute (OMLI) \n#coronavirus #worklife #workingathome #municipality #municipal #cao #councils #localgov #localgovernment #onpoli #leadership #technology #leansixsigma #leanmanagement #omlilean #government #ontario #publicpolicy #policies #civilsociety #worklifebalance #newnormal #munigov
URL:https://muniserv.ca/event/free-webinar-managing-a-team-who-is-now-working-from-home
CATEGORIES:Webinars
ATTACH;FMTTYPE=image/jpeg:https://muniserv.ca/wp-content/uploads/Work-from-Home.jpeg
END:VEVENT
BEGIN:VEVENT
DTSTART;TZID=America/Toronto:20200407T210000
DTEND;TZID=America/Toronto:20200407T220000
DTSTAMP:20260421T205112
CREATED:20200323T155358Z
LAST-MODIFIED:20200323T164111Z
UID:25030-1586293200-1586296800@muniserv.ca
SUMMARY:Be The Successful Entrepreneur
DESCRIPTION:Be The Successful Entrepreneur \nWhen:  April 7\, 2020 9:00pm – 10:00pm ET \nRegistration Link: https://sagewisdom.levellingup.ca/be-the-successful-entrepreneur/ \nGrow your career in a digital community with Colin Christensen\, Experienced Entrepreneur\, Investor\, and Mentor. \nJoin this live interactive\, convenient\, and affordable alternative to traditional professional development. Find community and development even amidst your self-isolation! \nEntrepreneurship seems like it should be easy: “build a better mousetrap and the world will beat a path to your door”. This has not been true – if not ever – not for a long time. The noise of the market and levels of failure among entrepreneurs is intimidating. \nWe will help you to have the confidence to not only build a business that can work but build any business to work. We can help you avoid the needless failures and be the successful entrepreneur you want to be. \nStarts April 7th Register NOW! \n$53.75/hr\, 8 weekly\, one hour sessions.Max 8 people per group. \nBUY NOW \nLevellingUp will help you bridge the gap between knowing HOW TO do something and MASTERING it. Grow your skills fast alongside an expert and with the support of a trusted small group. \nThe experts you want. The skills you need. Nothing standing in your way.\nwww.LevellingUp.ca \n#LevellingUp #PeopleHelpingPeople #LevelUp #Leadership #Goals
URL:https://muniserv.ca/event/be-the-successful-entrepreneur-2
CATEGORIES:Training Sessions,Webinars
ATTACH;FMTTYPE=image/jpeg:https://muniserv.ca/wp-content/uploads/Be-The-Successful-Entrepreneur.jpg
END:VEVENT
BEGIN:VEVENT
DTSTART;TZID=America/Toronto:20200409T120000
DTEND;TZID=America/Toronto:20200409T130000
DTSTAMP:20260421T205112
CREATED:20200323T164757Z
LAST-MODIFIED:20200323T164757Z
UID:25039-1586433600-1586437200@muniserv.ca
SUMMARY:Building Confidence in Times of Uncertainty
DESCRIPTION:Building Confidence in Times of Uncertainty \nWhen:  April 9\, 2020 12:00pm – 1:00pm ET \nRegistration Link: https://sagewisdom.levellingup.ca/building-confidence-in-times-ofuncertainty/ \nGrow your career in a digital community with Kimberly Hill\, Entrepreneur\, CEO of the Self-Confidence Project\, Speaker\, Confidence Coach\, Writer\, BBA\, Reiki Healer. \nJoin this live interactive\, convenient\, and affordable alternative to traditional professional development. Find\ncommunity and development even amidst your self-isolation! \n85% of individuals suffer from low-self esteem\, and this harms our relationship with self\, friends\, family and co-workers. If you’re someone who feels unsure of yourself or is merely curious about how to increase your confidence\, this group is for you. The truth is\, you’re not alone\, and confidence is a skill we can develop. Confidence matters in life just as much as\ncompetence. Individuals who may not necessarily be the brightest in the room\, but the most confident tend to be more admired and listened to than others. \nStarts April 9th Register NOW! \n$16.13/hr\, 8 weekly\, one hour sessions. Max 8 people per group. \n BUY NOW\nLevellingUp will help you bridge the gap between knowing HOW TO do something and\nMASTERING it. Grow your skills fast alongside an expert and with the support of a trusted\nsmall group. \nThe experts you want. The skills you need. Nothing standing in your way.\nwww.LevellingUp.ca \n#LevellingUp #PeopleHelpingPeople #LevelUp #Leadership #Goals
URL:https://muniserv.ca/event/building-confidence-in-times-of-uncertainty-2
CATEGORIES:Training Sessions,Webinars
ATTACH;FMTTYPE=image/jpeg:https://muniserv.ca/wp-content/uploads/Building-Confidence-In-Times-Of-Uncertainty.jpg
END:VEVENT
BEGIN:VEVENT
DTSTART;TZID=America/Toronto:20200414T130000
DTEND;TZID=America/Toronto:20200414T140000
DTSTAMP:20260421T205112
CREATED:20200323T170020Z
LAST-MODIFIED:20200323T170020Z
UID:25048-1586869200-1586872800@muniserv.ca
SUMMARY:Lead Others: Leadership Coaching
DESCRIPTION:Lead Others: Leadership Coaching \nWhen: April 14\, 2020 1:00pm – 2:00pm ET \nRegistration Link: https://sagewisdom.levellingup.ca/lead-others-leadership-coaching/ \nGrow your career in a digital community with Ed Temple\, Professional Certified Coach by IFC\, Certified Executive Coach from Royal Roads University\, MA\, Total SDI Master Facilitator. \nJoin this live interactive\, convenient\, and affordable alternative to traditional professional development. Find community and development even amidst your self-isolation! \nRelationships are key to business success and advancing your career or business ownership. Coaching is the most impactful way to increase your relational impact professionally. In this group you will learn an award winning and globally recognized coaching framework including principles\, concepts\, actions and behaviours associated with effective coaching in leadership. \nYou will also learn the neuroscience of coaching and why coaching is THE leadership tool of the future. You will be coached and coach in this course. You will use coaching skills and through the course be able to coach effectively in your professional life by the end. You will be given coaching questions to be able to utilize in many situations. \nStarts April 14th Register NOW! \n$38.70/hr\, 9 weekly\, one hour sessions. Max 8 people per group. \nBUY NOW \nLevellingUp will help you bridge the gap between knowing HOW TO do something and MASTERING it. Grow your skills fast alongside an expert and with the support of a trusted small group. \nThe experts you want. The skills you need. Nothing standing in your way. \nwww.LevellingUp.ca\n#LevellingUp #PeopleHelpingPeople #LevelUp #Leadership #Goals
URL:https://muniserv.ca/event/lead-others-leadership-coaching-2
CATEGORIES:Training Sessions,Webinars
ATTACH;FMTTYPE=image/jpeg:https://muniserv.ca/wp-content/uploads/Lead-Others-Leadership-Coaching.jpg
END:VEVENT
BEGIN:VEVENT
DTSTART;TZID=America/Toronto:20200414T160000
DTEND;TZID=America/Toronto:20200414T170000
DTSTAMP:20260421T205112
CREATED:20200323T165348Z
LAST-MODIFIED:20200323T165450Z
UID:25043-1586880000-1586883600@muniserv.ca
SUMMARY:Think Like a CEO
DESCRIPTION:Think Like a CEO \nApril 14\, 2020 4:00pm – 5:00pm ET \nRegistration Link: https://sagewisdom.levellingup.ca/think-like-a-ceo/ \nGrow your career in a digital community with Mike Joseph\, Certified Business Coach\, Gazelles & Gravitas Impact\, Certified Forum Chair. \nJoin this live interactive\, convenient\, and affordable alternative to traditional professional development. Find community and development even amidst your self-isolation! \nGeared towards leaders of small and medium-sized businesses\, this Accelerator Group will help you to develop a vision for your organization\, get clarity around your go-to market strategy\, develop good execution habits\, and measure outcomes using the right performance metrics. \nStarts April 14th Register NOW! \n$86/hr\, 8 weekly\, one hour sessions. Max 8 people per group. \nBUY NOW\nLevellingUp will help you bridge the gap between knowing HOW TO do something and MASTERING it. Grow your skills fast alongside an expert and with the support of a trusted small group. \nThe experts you want. The skills you need. Nothing standing in your way.\nwww.LevellingUp.ca\n#LevellingUp #PeopleHelpingPeople #LevelUp #Leadership #Goals
URL:https://muniserv.ca/event/think-like-a-ceo-2
CATEGORIES:Training Sessions,Webinars
ATTACH;FMTTYPE=image/jpeg:https://muniserv.ca/wp-content/uploads/Think-Like-a-CEO.jpg
END:VEVENT
BEGIN:VEVENT
DTSTART;TZID=America/Toronto:20200427T121500
DTEND;TZID=America/Toronto:20200427T131500
DTSTAMP:20260421T205112
CREATED:20200423T135553Z
LAST-MODIFIED:20200423T135553Z
UID:25577-1587989700-1587993300@muniserv.ca
SUMMARY:2020 Business Process Intelligence Webinar Series
DESCRIPTION:2020 Business Process Intelligence Webinar Series \nYou are invited to join us for the next webinar in the 2020 Webinar Series! \nThe March webinar discussed ‘Office Design & Layout’ by answering the following questions;\n– How can my office setup improve my productivity and reduce wasted time?\n– What is the best way to setup my office?\n– What elements should be included in my office?\n– How can I improve my office setup/design? \nThis webinar will take place on Monday April 27\, 2020 @ 12:15pm Eastern. A reminder email with the instructions to join will be sent the morning of the webinar. \nTo register for this webinar please select the link below;\nRegister for ALL WEBINARS or just the APRIL Webinar \nInterested in becoming a Certified Lean or Six Sigma Professional?\nemail info@ezsigmagroup.com for elearning and virtual training options! \n“Learn to become more efficient so you can have more time to do what you love”
URL:https://muniserv.ca/event/2020-business-process-intelligence-webinar-series
CATEGORIES:Webinars
ATTACH;FMTTYPE=image/jpeg:https://muniserv.ca/wp-content/uploads/ezsigma-webinar-image.jpg
END:VEVENT
BEGIN:VEVENT
DTSTART;TZID=America/Toronto:20200429T100000
DTEND;TZID=America/Toronto:20200429T110000
DTSTAMP:20260421T205112
CREATED:20200330T185117Z
LAST-MODIFIED:20200414T164516Z
UID:25131-1588154400-1588158000@muniserv.ca
SUMMARY:Free Webinar - Understanding & Managing People from Different Cultures
DESCRIPTION:Understanding & Managing People from Different Cultures \nPeople from different cultures have different values; beliefs; perceptions; “do’s” & “don’ts”; expectations; etc. \nSince the multicultural population of Canada is now our 2nd largest population\, understanding culturally-different people is an important skill in today’s Canada. Only 5 of the 195 countries of the world have a culture similar to Canada’s and 1/3 of Canada’s residents were born in these countries. \nJoin me on Wednesday\, April 29\, 2020 at 10:00 a.m. Eastern to learn more! \n*Meeting ID: 530-952-397 \nBill Dennis B.Comm.\, MBA\, CSP (Distinction)\nPresident & CEO \nCultural & Generational Training \nhttps://crossculturalconnecting.com/
URL:https://muniserv.ca/event/free-webinar-understanding-managing-people-from-different-cultures-3
CATEGORIES:Webinars
ATTACH;FMTTYPE=image/jpeg:https://muniserv.ca/wp-content/uploads/Policeman.jpg
END:VEVENT
END:VCALENDAR