BEGIN:VCALENDAR
VERSION:2.0
PRODID:-//MuniSERV - ECPv6.15.12.2//NONSGML v1.0//EN
CALSCALE:GREGORIAN
METHOD:PUBLISH
X-ORIGINAL-URL:https://muniserv.ca
X-WR-CALDESC:Events for MuniSERV
REFRESH-INTERVAL;VALUE=DURATION:PT1H
X-Robots-Tag:noindex
X-PUBLISHED-TTL:PT1H
BEGIN:VTIMEZONE
TZID:America/Toronto
BEGIN:DAYLIGHT
TZOFFSETFROM:-0500
TZOFFSETTO:-0400
TZNAME:EDT
DTSTART:20190310T070000
END:DAYLIGHT
BEGIN:STANDARD
TZOFFSETFROM:-0400
TZOFFSETTO:-0500
TZNAME:EST
DTSTART:20191103T060000
END:STANDARD
BEGIN:DAYLIGHT
TZOFFSETFROM:-0500
TZOFFSETTO:-0400
TZNAME:EDT
DTSTART:20200308T070000
END:DAYLIGHT
BEGIN:STANDARD
TZOFFSETFROM:-0400
TZOFFSETTO:-0500
TZNAME:EST
DTSTART:20201101T060000
END:STANDARD
BEGIN:DAYLIGHT
TZOFFSETFROM:-0500
TZOFFSETTO:-0400
TZNAME:EDT
DTSTART:20210314T070000
END:DAYLIGHT
BEGIN:STANDARD
TZOFFSETFROM:-0400
TZOFFSETTO:-0500
TZNAME:EST
DTSTART:20211107T060000
END:STANDARD
END:VTIMEZONE
BEGIN:VEVENT
DTSTART;TZID=America/Toronto:20200513T100000
DTEND;TZID=America/Toronto:20200513T110000
DTSTAMP:20260421T192739
CREATED:20200330T185026Z
LAST-MODIFIED:20200414T164824Z
UID:25134-1589364000-1589367600@muniserv.ca
SUMMARY:Free Webinar - Inclusion and Understanding of Indigenous Peoples at Your Municipality
DESCRIPTION:Inclusion and Understanding of Indigenous Peoples at Your Municipality \nIndigenous Peoples have cultures that are different than Canada’s mosaic of Non-Indigenous people. \nUnderstanding these cultural differences is very important to making Indigenous Peoples feel that your municipality is a welcoming\, diversity-valuing organization where they will be Welcomed; Valued; Supported; and Respected as employees. \nJoin me on Wednesday\, May 13\, 2020 at 10:00 a.m. Eastern to learn more! \n*Meeting ID: 530 952 397 \nBill Dennis B.Comm.\, MBA\, CSP (Distinction)\nPresident & CEO \nCultural & Generational Training\nhttps://crossculturalconnecting.com/
URL:https://muniserv.ca/event/free-webinar-inclusion-and-understanding-of-indigenous-peoples-at-your-municipality
CATEGORIES:Webinars
ATTACH;FMTTYPE=image/jpeg:https://muniserv.ca/wp-content/uploads/inclusion.jpg
END:VEVENT
BEGIN:VEVENT
DTSTART;TZID=America/Toronto:20200521T140000
DTEND;TZID=America/Toronto:20200521T143000
DTSTAMP:20260421T192739
CREATED:20200513T175131Z
LAST-MODIFIED:20200513T175131Z
UID:25881-1590069600-1590071400@muniserv.ca
SUMMARY:Complimentary Webinar - Achieving Low Carbon Resilience for Local Governments
DESCRIPTION:PSD COMPLIMENTARY WEBINAR | MAY 21ST |  2:00PM – 2:30PM ET \nClimate change can pose considerable physical and economic risks to local governments. \nTo reduce the impacts of climate change\, organizations must seek ways to adapt to the changing climate as well as mitigate their contribution to climate change. PSD has partnered with Arcadis for this webinar to define the importance of integrating climate change adaptation and mitigation. \nLow carbon resilience (LCR) is an approach that focuses on integrating adaptation and mitigation strategies by reducing vulnerabilities to climate change impacts and reducing greenhouse gas emissions. Experts from PSD and Arcadis will share how local governments can build LCR while maintaining regulatory compliance\, financial efficiency\, and expected levels of service. \nClick Here to Register \nCo-Presented by: \n              \n 
URL:https://muniserv.ca/event/complimentary-webinar-achieving-low-carbon-resilience-for-local-governments
CATEGORIES:Webinars
ATTACH;FMTTYPE=image/jpeg:https://muniserv.ca/wp-content/uploads/psd-picture.jpg
END:VEVENT
END:VCALENDAR