BEGIN:VCALENDAR
VERSION:2.0
PRODID:-//MuniSERV - ECPv6.15.12.2//NONSGML v1.0//EN
CALSCALE:GREGORIAN
METHOD:PUBLISH
X-ORIGINAL-URL:https://muniserv.ca
X-WR-CALDESC:Events for MuniSERV
REFRESH-INTERVAL;VALUE=DURATION:PT1H
X-Robots-Tag:noindex
X-PUBLISHED-TTL:PT1H
BEGIN:VTIMEZONE
TZID:America/Toronto
BEGIN:DAYLIGHT
TZOFFSETFROM:-0500
TZOFFSETTO:-0400
TZNAME:EDT
DTSTART:20170312T070000
END:DAYLIGHT
BEGIN:STANDARD
TZOFFSETFROM:-0400
TZOFFSETTO:-0500
TZNAME:EST
DTSTART:20171105T060000
END:STANDARD
BEGIN:DAYLIGHT
TZOFFSETFROM:-0500
TZOFFSETTO:-0400
TZNAME:EDT
DTSTART:20180311T070000
END:DAYLIGHT
BEGIN:STANDARD
TZOFFSETFROM:-0400
TZOFFSETTO:-0500
TZNAME:EST
DTSTART:20181104T060000
END:STANDARD
BEGIN:DAYLIGHT
TZOFFSETFROM:-0500
TZOFFSETTO:-0400
TZNAME:EDT
DTSTART:20190310T070000
END:DAYLIGHT
BEGIN:STANDARD
TZOFFSETFROM:-0400
TZOFFSETTO:-0500
TZNAME:EST
DTSTART:20191103T060000
END:STANDARD
END:VTIMEZONE
BEGIN:VEVENT
DTSTART;TZID=America/Toronto:20180320T140000
DTEND;TZID=America/Toronto:20180320T150000
DTSTAMP:20260425T221318
CREATED:20180314T125343Z
LAST-MODIFIED:20180314T125343Z
UID:13183-1521554400-1521558000@muniserv.ca
SUMMARY:Municipal Asset Management Planning Webinars
DESCRIPTION:COMPLIMENTARY WEBINARS \nIn December 2017\, the province passed a municipal asset management planning regulation under the Infrastructure for Jobs and Prosperity Act\, 2015. To help municipalities better understand the content of the regulation\, the Ministry is offering two technical webinars on the content of the regulation. This presentation will be suited primarily to municipal professionals engaged directly in asset management\, such as municipal finance and municipal engineering professionals\, but is open to anyone wishing to attend. \nDate: Tuesday\, March 20 and Wednesday\, March 21 @ 2 PM – 3 PM \nTo participate\, please click on the corresponding link below dial the conference call number above at the time of the event. \nClick here to participate in Tuesday’s webinar  Click here to participate in Wednesday’s webinar \nConference Call Number Tuesday\, March 20: 1-855-340-7035; Passcode 6011155# Wednesday\, March 21: 1-855-340-7035; Passcode 5964638#
URL:https://muniserv.ca/event/municipal-asset-management-planning-webinars
CATEGORIES:Webinars
ATTACH;FMTTYPE=image/png:https://muniserv.ca/wp-content/uploads/MFOA_logo_final_6-1.png
END:VEVENT
END:VCALENDAR