BEGIN:VCALENDAR
VERSION:2.0
PRODID:-//MuniSERV - ECPv6.15.12.2//NONSGML v1.0//EN
CALSCALE:GREGORIAN
METHOD:PUBLISH
X-ORIGINAL-URL:https://muniserv.ca
X-WR-CALDESC:Events for MuniSERV
REFRESH-INTERVAL;VALUE=DURATION:PT1H
X-Robots-Tag:noindex
X-PUBLISHED-TTL:PT1H
BEGIN:VTIMEZONE
TZID:America/Toronto
BEGIN:DAYLIGHT
TZOFFSETFROM:-0500
TZOFFSETTO:-0400
TZNAME:EDT
DTSTART:20170312T070000
END:DAYLIGHT
BEGIN:STANDARD
TZOFFSETFROM:-0400
TZOFFSETTO:-0500
TZNAME:EST
DTSTART:20171105T060000
END:STANDARD
BEGIN:DAYLIGHT
TZOFFSETFROM:-0500
TZOFFSETTO:-0400
TZNAME:EDT
DTSTART:20180311T070000
END:DAYLIGHT
BEGIN:STANDARD
TZOFFSETFROM:-0400
TZOFFSETTO:-0500
TZNAME:EST
DTSTART:20181104T060000
END:STANDARD
BEGIN:DAYLIGHT
TZOFFSETFROM:-0500
TZOFFSETTO:-0400
TZNAME:EDT
DTSTART:20190310T070000
END:DAYLIGHT
BEGIN:STANDARD
TZOFFSETFROM:-0400
TZOFFSETTO:-0500
TZNAME:EST
DTSTART:20191103T060000
END:STANDARD
END:VTIMEZONE
BEGIN:VEVENT
DTSTART;TZID=America/Toronto:20180607T100000
DTEND;TZID=America/Toronto:20180607T101500
DTSTAMP:20260425T174843
CREATED:20180601T145036Z
LAST-MODIFIED:20180601T145036Z
UID:14391-1528365600-1528366500@muniserv.ca
SUMMARY:Grant Funding Opportunities for Municipalities
DESCRIPTION:Is your municipality taking advantage of current grant funding opportunities?  \nThe PSD Research team will provide an overview of grant funding opportunities for Canadian municipalities on a monthly basis. \nEach month we will highlight any grants with an approaching deadline and/or ongoing grant programs. \nPlease join us to find out about grant opportunities for your municipality! \nNext Session – June 7th\, 2018 | 10:00am to 10:15am ET or at 1:00pm – 1:15pm ET \nJune 7th Webinar Session will review the following grants: \n\nDisaster Mitigation and Adaptation Fund\nMunicipal Asset Management Program (MAMP)\nMunicipal for Climate Innovation Program (MCIP) Staff Grants\n\nClick here to Register
URL:https://muniserv.ca/event/grant-funding-opportunities-for-municipalities
CATEGORIES:Webinars
ATTACH;FMTTYPE=image/png:https://muniserv.ca/wp-content/uploads/psd_logo_new.png
END:VEVENT
END:VCALENDAR