BEGIN:VCALENDAR
VERSION:2.0
PRODID:-//MuniSERV - ECPv6.15.12.2//NONSGML v1.0//EN
CALSCALE:GREGORIAN
METHOD:PUBLISH
X-ORIGINAL-URL:https://muniserv.ca
X-WR-CALDESC:Events for MuniSERV
REFRESH-INTERVAL;VALUE=DURATION:PT1H
X-Robots-Tag:noindex
X-PUBLISHED-TTL:PT1H
BEGIN:VTIMEZONE
TZID:America/Toronto
BEGIN:DAYLIGHT
TZOFFSETFROM:-0500
TZOFFSETTO:-0400
TZNAME:EDT
DTSTART:20170312T070000
END:DAYLIGHT
BEGIN:STANDARD
TZOFFSETFROM:-0400
TZOFFSETTO:-0500
TZNAME:EST
DTSTART:20171105T060000
END:STANDARD
BEGIN:DAYLIGHT
TZOFFSETFROM:-0500
TZOFFSETTO:-0400
TZNAME:EDT
DTSTART:20180311T070000
END:DAYLIGHT
BEGIN:STANDARD
TZOFFSETFROM:-0400
TZOFFSETTO:-0500
TZNAME:EST
DTSTART:20181104T060000
END:STANDARD
BEGIN:DAYLIGHT
TZOFFSETFROM:-0500
TZOFFSETTO:-0400
TZNAME:EDT
DTSTART:20190310T070000
END:DAYLIGHT
BEGIN:STANDARD
TZOFFSETFROM:-0400
TZOFFSETTO:-0500
TZNAME:EST
DTSTART:20191103T060000
END:STANDARD
END:VTIMEZONE
BEGIN:VEVENT
DTSTART;TZID=America/Toronto:20181122T110000
DTEND;TZID=America/Toronto:20181122T120000
DTSTAMP:20260425T073250
CREATED:20181114T000151Z
LAST-MODIFIED:20181114T000151Z
UID:16841-1542884400-1542888000@muniserv.ca
SUMMARY:Free Webinar - Strategic Advisor Reveals... The ONLY 3 Ways to Grow Your Business
DESCRIPTION:Reserve Your Seat Now\, for this webinar training that will change the way you approach building your business…” \nThursday November 22\, 2018 @ 11 a.m. Eastern Standard Time (Toronto) \n\nWhat You’ll Learn on the Live Webinar:\n\n\n\nExactly how  to grow any business in any industry in any economy with little effort\, time or expenses.\nA cost effective strategy to virtually eliminate your marketing spend. \nThe most powerful underutilized strategy to scale your business in a very short time.\nPlus\, free bonus: register today and you’ll get instant access to “The Serious Business Owner’s Guide to Profitable Joint Ventures”.\n\n\nClaim your spot on the Free Webinar Now!
URL:https://muniserv.ca/event/free-webinar-strategic-advisor-reveals-the-only-3-ways-to-grow-your-business
CATEGORIES:Webinars
ATTACH;FMTTYPE=image/png:https://muniserv.ca/wp-content/uploads/tyrone-headshot.png
END:VEVENT
END:VCALENDAR