BEGIN:VCALENDAR
VERSION:2.0
PRODID:-//MuniSERV - ECPv6.15.12.2//NONSGML v1.0//EN
CALSCALE:GREGORIAN
METHOD:PUBLISH
X-ORIGINAL-URL:https://muniserv.ca
X-WR-CALDESC:Events for MuniSERV
REFRESH-INTERVAL;VALUE=DURATION:PT1H
X-Robots-Tag:noindex
X-PUBLISHED-TTL:PT1H
BEGIN:VTIMEZONE
TZID:America/Toronto
BEGIN:DAYLIGHT
TZOFFSETFROM:-0500
TZOFFSETTO:-0400
TZNAME:EDT
DTSTART:20180311T070000
END:DAYLIGHT
BEGIN:STANDARD
TZOFFSETFROM:-0400
TZOFFSETTO:-0500
TZNAME:EST
DTSTART:20181104T060000
END:STANDARD
BEGIN:DAYLIGHT
TZOFFSETFROM:-0500
TZOFFSETTO:-0400
TZNAME:EDT
DTSTART:20190310T070000
END:DAYLIGHT
BEGIN:STANDARD
TZOFFSETFROM:-0400
TZOFFSETTO:-0500
TZNAME:EST
DTSTART:20191103T060000
END:STANDARD
BEGIN:DAYLIGHT
TZOFFSETFROM:-0500
TZOFFSETTO:-0400
TZNAME:EDT
DTSTART:20200308T070000
END:DAYLIGHT
BEGIN:STANDARD
TZOFFSETFROM:-0400
TZOFFSETTO:-0500
TZNAME:EST
DTSTART:20201101T060000
END:STANDARD
END:VTIMEZONE
BEGIN:VEVENT
DTSTART;TZID=America/Toronto:20190426T133000
DTEND;TZID=America/Toronto:20190426T143000
DTSTAMP:20260422T164925
CREATED:20190317T104807Z
LAST-MODIFIED:20190317T104807Z
UID:18458-1556285400-1556289000@muniserv.ca
SUMMARY:Speaker Series - Making Accessible Web Content
DESCRIPTION:Beyond a legislative requirement\, accessibility and inclusiveness is just good business. This webinar will provide you with the essentials to ensure that you meet WCAG 2.0 standards and create a website that everyone can use. \nLearning Objectives:\nUnderstand the requirements and steps that you need to take to meet accessibility standards.\nRecognize and know how to develop accessible content and navigation for your website\nLearn how to plan future content and services with accessibility in mind from the very beginning. \nLength: 1 hour \nFriday\, April 26\, 2019\, 1:30 PM – 2:30 PM EST\nCost: $149/person\nRegister now
URL:https://muniserv.ca/event/speaker-series-making-accessible-web-content
CATEGORIES:Webinars
ATTACH;FMTTYPE=image/png:https://muniserv.ca/wp-content/uploads/eSolutions-logo2x.png
END:VEVENT
END:VCALENDAR