BEGIN:VCALENDAR
VERSION:2.0
PRODID:-//MuniSERV - ECPv6.15.12.2//NONSGML v1.0//EN
CALSCALE:GREGORIAN
METHOD:PUBLISH
X-WR-CALNAME:MuniSERV
X-ORIGINAL-URL:https://muniserv.ca
X-WR-CALDESC:Events for MuniSERV
REFRESH-INTERVAL;VALUE=DURATION:PT1H
X-Robots-Tag:noindex
X-PUBLISHED-TTL:PT1H
BEGIN:VTIMEZONE
TZID:America/Toronto
BEGIN:DAYLIGHT
TZOFFSETFROM:-0500
TZOFFSETTO:-0400
TZNAME:EDT
DTSTART:20180311T070000
END:DAYLIGHT
BEGIN:STANDARD
TZOFFSETFROM:-0400
TZOFFSETTO:-0500
TZNAME:EST
DTSTART:20181104T060000
END:STANDARD
BEGIN:DAYLIGHT
TZOFFSETFROM:-0500
TZOFFSETTO:-0400
TZNAME:EDT
DTSTART:20190310T070000
END:DAYLIGHT
BEGIN:STANDARD
TZOFFSETFROM:-0400
TZOFFSETTO:-0500
TZNAME:EST
DTSTART:20191103T060000
END:STANDARD
BEGIN:DAYLIGHT
TZOFFSETFROM:-0500
TZOFFSETTO:-0400
TZNAME:EDT
DTSTART:20200308T070000
END:DAYLIGHT
BEGIN:STANDARD
TZOFFSETFROM:-0400
TZOFFSETTO:-0500
TZNAME:EST
DTSTART:20201101T060000
END:STANDARD
END:VTIMEZONE
BEGIN:VEVENT
DTSTART;TZID=America/Toronto:20190516T120000
DTEND;TZID=America/Toronto:20190516T133000
DTSTAMP:20260422T152512
CREATED:20190426T143827Z
LAST-MODIFIED:20190426T143827Z
UID:19201-1558008000-1558013400@muniserv.ca
SUMMARY:Introduction to Lean Six Sigma
DESCRIPTION:Free Webinar – Introduction to Lean Six Sigma \nMay 16\, 2019 – 12:00 – 1:30 \nRegister here \nOntario Municipal Leadership Institute \n  \n 
URL:https://muniserv.ca/event/introduction-to-lean-six-sigma
CATEGORIES:Webinars
ATTACH;FMTTYPE=image/png:https://muniserv.ca/wp-content/uploads/OMLI_Logo-011-1.png
END:VEVENT
BEGIN:VEVENT
DTSTART;TZID=America/Toronto:20190516T133000
DTEND;TZID=America/Toronto:20190516T153000
DTSTAMP:20260422T152512
CREATED:20190317T105131Z
LAST-MODIFIED:20190317T105131Z
UID:18460-1558013400-1558020600@muniserv.ca
SUMMARY:Speaker Series - Introduction to Business Continuity Planning
DESCRIPTION:Thursday\, May 16\, 2019\, 1:30 PM – 3:30 PM EST\nCost: $149/person\nRegister now \nAn interactive webinar on Introduction to Business Continuity Planning. The webinar will provide an overview of the business continuity program (BCP) process from program initiation to implementation. \nLearning Objectives:\nUnderstand the scope and framework of a business continuity program.\nRecognize the importance of business continuity planning for municipalities\nUnderstand the relationship between business continuity\, emergency response (ER)\, disaster recovery (DR)\, technology recovery\, and crisis communications plans.  \nLength: 2 hours
URL:https://muniserv.ca/event/speaker-series-introduction-to-business-continuity-planning
CATEGORIES:Webinars
ATTACH;FMTTYPE=image/png:https://muniserv.ca/wp-content/uploads/eSolutions-logo2x.png
END:VEVENT
END:VCALENDAR