BEGIN:VCALENDAR
VERSION:2.0
PRODID:-//MuniSERV - ECPv6.15.12.2//NONSGML v1.0//EN
CALSCALE:GREGORIAN
METHOD:PUBLISH
X-WR-CALNAME:MuniSERV
X-ORIGINAL-URL:https://muniserv.ca
X-WR-CALDESC:Events for MuniSERV
REFRESH-INTERVAL;VALUE=DURATION:PT1H
X-Robots-Tag:noindex
X-PUBLISHED-TTL:PT1H
BEGIN:VTIMEZONE
TZID:America/Toronto
BEGIN:DAYLIGHT
TZOFFSETFROM:-0500
TZOFFSETTO:-0400
TZNAME:EDT
DTSTART:20180311T070000
END:DAYLIGHT
BEGIN:STANDARD
TZOFFSETFROM:-0400
TZOFFSETTO:-0500
TZNAME:EST
DTSTART:20181104T060000
END:STANDARD
BEGIN:DAYLIGHT
TZOFFSETFROM:-0500
TZOFFSETTO:-0400
TZNAME:EDT
DTSTART:20190310T070000
END:DAYLIGHT
BEGIN:STANDARD
TZOFFSETFROM:-0400
TZOFFSETTO:-0500
TZNAME:EST
DTSTART:20191103T060000
END:STANDARD
BEGIN:DAYLIGHT
TZOFFSETFROM:-0500
TZOFFSETTO:-0400
TZNAME:EDT
DTSTART:20200308T070000
END:DAYLIGHT
BEGIN:STANDARD
TZOFFSETFROM:-0400
TZOFFSETTO:-0500
TZNAME:EST
DTSTART:20201101T060000
END:STANDARD
END:VTIMEZONE
BEGIN:VEVENT
DTSTART;TZID=America/Toronto:20190919T140000
DTEND;TZID=America/Toronto:20190919T150000
DTSTAMP:20260422T085937
CREATED:20190909T171327Z
LAST-MODIFIED:20190909T171327Z
UID:21848-1568901600-1568905200@muniserv.ca
SUMMARY:Free Live Webinar - Become an Inspirational Leader
DESCRIPTION:Head to Heart Leadership: Become an Inspirational Leader \nLevellingUp Sage\, John C. Maxwell Certified Speaker\, Coach\, & Trainer\nIn this LIVE WEBINAR\, you will learn \n\nThe foundation that underpins all effective leadership.\nHow to take what’s in your head – the principles that you already know about leadership – and put this knowledge into practice so it’s an integral part of who you are and how you operate.\nWhy is it some people are so readily followed? What makes them different?\n\nLearn how to become an inspirational leader. A leader that everyone wants to follow! \n\nDetails and registration: https://www.eventbrite.ca/e/head-to-heart-leadership-sage-wisdom-from-levellingup-registration-71674687921\nThursday\, Sept 19 @ 2-3pm EDT
URL:https://muniserv.ca/event/free-live-webinar-become-an-inspirational-leader
CATEGORIES:Webinars
ATTACH;FMTTYPE=image/png:https://muniserv.ca/wp-content/uploads/Scott-Head-to-Heart-Leadership-r1.png
END:VEVENT
END:VCALENDAR