BEGIN:VCALENDAR
VERSION:2.0
PRODID:-//MuniSERV - ECPv6.15.12.2//NONSGML v1.0//EN
CALSCALE:GREGORIAN
METHOD:PUBLISH
X-WR-CALNAME:MuniSERV
X-ORIGINAL-URL:https://muniserv.ca
X-WR-CALDESC:Events for MuniSERV
REFRESH-INTERVAL;VALUE=DURATION:PT1H
X-Robots-Tag:noindex
X-PUBLISHED-TTL:PT1H
BEGIN:VTIMEZONE
TZID:America/Toronto
BEGIN:DAYLIGHT
TZOFFSETFROM:-0500
TZOFFSETTO:-0400
TZNAME:EDT
DTSTART:20180311T070000
END:DAYLIGHT
BEGIN:STANDARD
TZOFFSETFROM:-0400
TZOFFSETTO:-0500
TZNAME:EST
DTSTART:20181104T060000
END:STANDARD
BEGIN:DAYLIGHT
TZOFFSETFROM:-0500
TZOFFSETTO:-0400
TZNAME:EDT
DTSTART:20190310T070000
END:DAYLIGHT
BEGIN:STANDARD
TZOFFSETFROM:-0400
TZOFFSETTO:-0500
TZNAME:EST
DTSTART:20191103T060000
END:STANDARD
BEGIN:DAYLIGHT
TZOFFSETFROM:-0500
TZOFFSETTO:-0400
TZNAME:EDT
DTSTART:20200308T070000
END:DAYLIGHT
BEGIN:STANDARD
TZOFFSETFROM:-0400
TZOFFSETTO:-0500
TZNAME:EST
DTSTART:20201101T060000
END:STANDARD
END:VTIMEZONE
BEGIN:VEVENT
DTSTART;TZID=America/Toronto:20190925T130000
DTEND;TZID=America/Toronto:20190925T140000
DTSTAMP:20260422T085932
CREATED:20190909T170620Z
LAST-MODIFIED:20190913T144331Z
UID:21846-1569416400-1569420000@muniserv.ca
SUMMARY:Free Webinar - Leading the Ins and Outs of Cognitive Diversity
DESCRIPTION:Leading the Ins and Outs of Cognitive Diversity \nSeptember 25\, 2019 @ 1:00 p.m.EST\, 2:00 p.m. AST\, 2:30 p.m. NST \nPlease REGISTER HERE for this  exclusive free opportunity! \nThis webinar address will include: •Reflective activities to connect concepts to personal cognitive strengths and team members cognitive strengths •Scientific background on how we work and establish neuro-pathways •Story-telling and activities to illustrate concepts. \nBased on the principles of Emergenetics\, you will learn to improve communication\, connection\, and performance through an enlightening process of self-awareness and discovery. Learn how the real magic happens when teams can be built synergistically\, and team members can collaborate more effectively by “borrowing another person’s brain.” \nI sincerely hope you will take full advantage of this invitation and informative experience!  \nGail Green\, President \nEmergentics Ontario \ngail.green@emergeneticsontario.com
URL:https://muniserv.ca/event/free-webinar-leading-the-ins-and-outs-of-cognitive-diversity-3
CATEGORIES:Webinars
ATTACH;FMTTYPE=image/png:https://muniserv.ca/wp-content/uploads/Emergenetics-Newsletter-banner.png
END:VEVENT
END:VCALENDAR