BEGIN:VCALENDAR
VERSION:2.0
PRODID:-//MuniSERV - ECPv6.15.12.2//NONSGML v1.0//EN
CALSCALE:GREGORIAN
METHOD:PUBLISH
X-ORIGINAL-URL:https://muniserv.ca
X-WR-CALDESC:Events for MuniSERV
REFRESH-INTERVAL;VALUE=DURATION:PT1H
X-Robots-Tag:noindex
X-PUBLISHED-TTL:PT1H
BEGIN:VTIMEZONE
TZID:America/Toronto
BEGIN:DAYLIGHT
TZOFFSETFROM:-0500
TZOFFSETTO:-0400
TZNAME:EDT
DTSTART:20180311T070000
END:DAYLIGHT
BEGIN:STANDARD
TZOFFSETFROM:-0400
TZOFFSETTO:-0500
TZNAME:EST
DTSTART:20181104T060000
END:STANDARD
BEGIN:DAYLIGHT
TZOFFSETFROM:-0500
TZOFFSETTO:-0400
TZNAME:EDT
DTSTART:20190310T070000
END:DAYLIGHT
BEGIN:STANDARD
TZOFFSETFROM:-0400
TZOFFSETTO:-0500
TZNAME:EST
DTSTART:20191103T060000
END:STANDARD
BEGIN:DAYLIGHT
TZOFFSETFROM:-0500
TZOFFSETTO:-0400
TZNAME:EDT
DTSTART:20200308T070000
END:DAYLIGHT
BEGIN:STANDARD
TZOFFSETFROM:-0400
TZOFFSETTO:-0500
TZNAME:EST
DTSTART:20201101T060000
END:STANDARD
END:VTIMEZONE
BEGIN:VEVENT
DTSTART;TZID=America/Toronto:20191010T140000
DTEND;TZID=America/Toronto:20191010T150000
DTSTAMP:20260422T073737
CREATED:20190925T181053Z
LAST-MODIFIED:20190925T181053Z
UID:22249-1570716000-1570719600@muniserv.ca
SUMMARY:Free Webinar - How to Overcome Conflict with Project Stakeholders
DESCRIPTION:In this FREE LIVE WEBINAR\, you will learn how to deal with stakeholders during high stress and complex projects.  \nHow to Overcome Conflict with Project Stakeholders \nPresented by: Michelle Phaneuf\nP.Eng.\, Chartered Mediator\, Certified Coach\, Certified Psychological Health & Safety Adviser\, Trained Ombudsman\, LevellingUp Sage \nThursday\, Oct. 10 @ 2:00 pm – 3:00 pm EDT \nIn this LIVE WEBINAR\, we will discuss: \n\nYour response to conflict with stakeholders\nOur brains in stress\nHow your definition of conflict affects your perception of conflict\nUnproductive versus productive conflict\nStrategies for strong collaboration\n\nRegister here. \nUnavailable to attend? Register and receive the webinar recording!
URL:https://muniserv.ca/event/free-webinar-how-to-overcome-conflict-with-project-stakeholders
CATEGORIES:Webinars
ATTACH;FMTTYPE=image/png:https://muniserv.ca/wp-content/uploads/Michelle-Overcome-Conflict.png
END:VEVENT
END:VCALENDAR