BEGIN:VCALENDAR
VERSION:2.0
PRODID:-//MuniSERV - ECPv6.15.12.2//NONSGML v1.0//EN
CALSCALE:GREGORIAN
METHOD:PUBLISH
X-WR-CALNAME:MuniSERV
X-ORIGINAL-URL:https://muniserv.ca
X-WR-CALDESC:Events for MuniSERV
REFRESH-INTERVAL;VALUE=DURATION:PT1H
X-Robots-Tag:noindex
X-PUBLISHED-TTL:PT1H
BEGIN:VTIMEZONE
TZID:America/Toronto
BEGIN:DAYLIGHT
TZOFFSETFROM:-0500
TZOFFSETTO:-0400
TZNAME:EDT
DTSTART:20180311T070000
END:DAYLIGHT
BEGIN:STANDARD
TZOFFSETFROM:-0400
TZOFFSETTO:-0500
TZNAME:EST
DTSTART:20181104T060000
END:STANDARD
BEGIN:DAYLIGHT
TZOFFSETFROM:-0500
TZOFFSETTO:-0400
TZNAME:EDT
DTSTART:20190310T070000
END:DAYLIGHT
BEGIN:STANDARD
TZOFFSETFROM:-0400
TZOFFSETTO:-0500
TZNAME:EST
DTSTART:20191103T060000
END:STANDARD
BEGIN:DAYLIGHT
TZOFFSETFROM:-0500
TZOFFSETTO:-0400
TZNAME:EDT
DTSTART:20200308T070000
END:DAYLIGHT
BEGIN:STANDARD
TZOFFSETFROM:-0400
TZOFFSETTO:-0500
TZNAME:EST
DTSTART:20201101T060000
END:STANDARD
END:VTIMEZONE
BEGIN:VEVENT
DTSTART;TZID=America/Toronto:20191017T140000
DTEND;TZID=America/Toronto:20191017T150000
DTSTAMP:20260422T073632
CREATED:20191001T183247Z
LAST-MODIFIED:20191001T183247Z
UID:22378-1571320800-1571324400@muniserv.ca
SUMMARY:Free Webinar - Rescuing Sports for Kids’ Sake!
DESCRIPTION:Sports are a huge investment of your time and money. Get maximum value from of the experience for both you and your child. \nWho should attend: parents\, coaches\, educators \nWe know you want your child to have the best possible sports experience.\nOne that considers long term athlete development and positive character reinforcement.\nLearn how to set up your child for success both on and off the field. \nYou will learn:\n– what you should expect\n– how to connect with the coach\n– how to be the best support for your kid \nDate: Thursday\, Oct. 17 @ 2:00 pm – 3:00 pm EDT \nRegister Here! \n 
URL:https://muniserv.ca/event/free-webinar-rescuing-sports-for-kids-sake
CATEGORIES:Webinars
ATTACH;FMTTYPE=image/png:https://muniserv.ca/wp-content/uploads/RescueKids_webinar_nobutton.png
END:VEVENT
END:VCALENDAR