BEGIN:VCALENDAR
VERSION:2.0
PRODID:-//MuniSERV - ECPv6.15.12.2//NONSGML v1.0//EN
CALSCALE:GREGORIAN
METHOD:PUBLISH
X-ORIGINAL-URL:https://muniserv.ca
X-WR-CALDESC:Events for MuniSERV
REFRESH-INTERVAL;VALUE=DURATION:PT1H
X-Robots-Tag:noindex
X-PUBLISHED-TTL:PT1H
BEGIN:VTIMEZONE
TZID:America/Toronto
BEGIN:DAYLIGHT
TZOFFSETFROM:-0500
TZOFFSETTO:-0400
TZNAME:EDT
DTSTART:20180311T070000
END:DAYLIGHT
BEGIN:STANDARD
TZOFFSETFROM:-0400
TZOFFSETTO:-0500
TZNAME:EST
DTSTART:20181104T060000
END:STANDARD
BEGIN:DAYLIGHT
TZOFFSETFROM:-0500
TZOFFSETTO:-0400
TZNAME:EDT
DTSTART:20190310T070000
END:DAYLIGHT
BEGIN:STANDARD
TZOFFSETFROM:-0400
TZOFFSETTO:-0500
TZNAME:EST
DTSTART:20191103T060000
END:STANDARD
BEGIN:DAYLIGHT
TZOFFSETFROM:-0500
TZOFFSETTO:-0400
TZNAME:EDT
DTSTART:20200308T070000
END:DAYLIGHT
BEGIN:STANDARD
TZOFFSETFROM:-0400
TZOFFSETTO:-0500
TZNAME:EST
DTSTART:20201101T060000
END:STANDARD
END:VTIMEZONE
BEGIN:VEVENT
DTSTART;TZID=America/Toronto:20191024T130000
DTEND;TZID=America/Toronto:20191024T140000
DTSTAMP:20260422T073737
CREATED:20191010T153306Z
LAST-MODIFIED:20191010T153431Z
UID:22544-1571922000-1571925600@muniserv.ca
SUMMARY:Free Webinar - Cultivating Collaboration
DESCRIPTION:I am very excited to extend this special invitation to register for Emergenetics Canada’s Complimentary Webinar – Cultivating Collaboration– presented by Bridgit Parise\, COO and Master Associate\, Emergenetics Canada.  \nOctober 24\, 2019 at 1:00pmEST / 10:00amPST. \nLearn how to leverage the process of divergence and convergence to realize the potential of cognitive diversity. \nEffective collaboration is much more than harmonious agreement or efficiency. Collaboration requires teams to navigate ambiguity\, unearth bold ideas\, and embrace new ways of working – one that harnesses the power of diverse perspectives and creative thinking to push past the obvious\, safe solutions to the truly innovative ones. \nRegister Here. \nIf you have questions\, please contact us at 905.636.0797 \nGail Green \nPresident \nEmergenetics Ontario \ngail.green@emergeneticsontario.com \n(905) 636-0797 – Work | (905) 749-4444 – Mobile \nwww.emergeneticsontario.com
URL:https://muniserv.ca/event/free-webinar-cultivating-collaboration
CATEGORIES:Webinars
ATTACH;FMTTYPE=image/png:https://muniserv.ca/wp-content/uploads/Emergenetics-Collaboration.png
END:VEVENT
END:VCALENDAR