BEGIN:VCALENDAR
VERSION:2.0
PRODID:-//MuniSERV - ECPv6.15.12.2//NONSGML v1.0//EN
CALSCALE:GREGORIAN
METHOD:PUBLISH
X-WR-CALNAME:MuniSERV
X-ORIGINAL-URL:https://muniserv.ca
X-WR-CALDESC:Events for MuniSERV
REFRESH-INTERVAL;VALUE=DURATION:PT1H
X-Robots-Tag:noindex
X-PUBLISHED-TTL:PT1H
BEGIN:VTIMEZONE
TZID:America/Toronto
BEGIN:DAYLIGHT
TZOFFSETFROM:-0500
TZOFFSETTO:-0400
TZNAME:EDT
DTSTART:20180311T070000
END:DAYLIGHT
BEGIN:STANDARD
TZOFFSETFROM:-0400
TZOFFSETTO:-0500
TZNAME:EST
DTSTART:20181104T060000
END:STANDARD
BEGIN:DAYLIGHT
TZOFFSETFROM:-0500
TZOFFSETTO:-0400
TZNAME:EDT
DTSTART:20190310T070000
END:DAYLIGHT
BEGIN:STANDARD
TZOFFSETFROM:-0400
TZOFFSETTO:-0500
TZNAME:EST
DTSTART:20191103T060000
END:STANDARD
BEGIN:DAYLIGHT
TZOFFSETFROM:-0500
TZOFFSETTO:-0400
TZNAME:EDT
DTSTART:20200308T070000
END:DAYLIGHT
BEGIN:STANDARD
TZOFFSETFROM:-0400
TZOFFSETTO:-0500
TZNAME:EST
DTSTART:20201101T060000
END:STANDARD
END:VTIMEZONE
BEGIN:VEVENT
DTSTART;TZID=America/Toronto:20191106T130000
DTEND;TZID=America/Toronto:20191106T140000
DTSTAMP:20260422T060351
CREATED:20191021T190503Z
LAST-MODIFIED:20191021T190503Z
UID:22730-1573045200-1573048800@muniserv.ca
SUMMARY:Applications to Improve Municipal Budgeting
DESCRIPTION:Public Sector Digest – APPLICATIONS TO IMPROVE MUNICIPAL BUDGETING \n2 PART SERIES | NEXT SESSION DATES\nNOV. 6TH AND 12TH – 1PM – 2PM ET \nIn this PSD webinar series\, attendees will learn how our FMW Web applications assist municipalities with financial planning and budgeting. The first webinar in the series will showcase FMW Web Operating Plan\, FMW Web Salary Plan\, and FMW Web Reporting. The session will include an overview of all three modules. The second session in the webinar series will present FMW Web Capital Plan and Fund Manager. \nSession 1: Operating Plan\, Salary Plan\, and Reporting \nSession 2: Capital Plan and Fund Manager \nRegister here \n 
URL:https://muniserv.ca/event/applications-to-improve-municipal-budgeting
CATEGORIES:Webinars
ATTACH;FMTTYPE=image/jpeg:https://muniserv.ca/wp-content/uploads/PSD-accounting-background-image-3.jpg
END:VEVENT
END:VCALENDAR