BEGIN:VCALENDAR
VERSION:2.0
PRODID:-//MuniSERV - ECPv6.15.12.2//NONSGML v1.0//EN
CALSCALE:GREGORIAN
METHOD:PUBLISH
X-ORIGINAL-URL:https://muniserv.ca
X-WR-CALDESC:Events for MuniSERV
REFRESH-INTERVAL;VALUE=DURATION:PT1H
X-Robots-Tag:noindex
X-PUBLISHED-TTL:PT1H
BEGIN:VTIMEZONE
TZID:America/Toronto
BEGIN:DAYLIGHT
TZOFFSETFROM:-0500
TZOFFSETTO:-0400
TZNAME:EDT
DTSTART:20190310T070000
END:DAYLIGHT
BEGIN:STANDARD
TZOFFSETFROM:-0400
TZOFFSETTO:-0500
TZNAME:EST
DTSTART:20191103T060000
END:STANDARD
BEGIN:DAYLIGHT
TZOFFSETFROM:-0500
TZOFFSETTO:-0400
TZNAME:EDT
DTSTART:20200308T070000
END:DAYLIGHT
BEGIN:STANDARD
TZOFFSETFROM:-0400
TZOFFSETTO:-0500
TZNAME:EST
DTSTART:20201101T060000
END:STANDARD
BEGIN:DAYLIGHT
TZOFFSETFROM:-0500
TZOFFSETTO:-0400
TZNAME:EDT
DTSTART:20210314T070000
END:DAYLIGHT
BEGIN:STANDARD
TZOFFSETFROM:-0400
TZOFFSETTO:-0500
TZNAME:EST
DTSTART:20211107T060000
END:STANDARD
END:VTIMEZONE
BEGIN:VEVENT
DTSTART;TZID=America/Toronto:20200402T120000
DTEND;TZID=America/Toronto:20200402T130000
DTSTAMP:20260421T222202
CREATED:20200330T173559Z
LAST-MODIFIED:20200330T173559Z
UID:25146-1585828800-1585832400@muniserv.ca
SUMMARY:Free Webinar - Managing a Team who is Working from Home
DESCRIPTION:Are you managing a team who is now working from home? \nThursday\, April 2nd\, at 12:00 noon EST/10:00 Mountain \nFirst off\, thank you for taking the need to flatten the curve seriously. Now let us provide you with some helpful tools (policies\, procedures) and tips to maintaining an effective remote team! \n\nErica Thomas\, MBA and I are excited to partner our two companies\, The Ontario Municipal Leadership Institute and Transitional Solutions Inc. to provide a FREE one-hour webinar on Thursday April 2nd 12:00 pm EST/10:00 am Mountain \nClick the following link to register: https://attendee.gototraining.com/rt/4416534105522755585 \nAngela Gravelle\nExecutive Director\, Ontario Municipal Leadership Institute (OMLI)\n#coronavirus #worklife #workingathome #municipality #municipal #cao #councils #localgov #localgovernment #onpoli #leadership #technology #leansixsigma #leanmanagement #omlilean #government #ontario #publicpolicy #policies #civilsociety #worklifebalance #newnormal #munigov
URL:https://muniserv.ca/event/free-webinar-managing-a-team-who-is-working-from-home
CATEGORIES:Webinars
ATTACH;FMTTYPE=image/jpeg:https://muniserv.ca/wp-content/uploads/Work-from-Home.jpeg
END:VEVENT
END:VCALENDAR