BEGIN:VCALENDAR
VERSION:2.0
PRODID:-//MuniSERV - ECPv6.15.12.2//NONSGML v1.0//EN
CALSCALE:GREGORIAN
METHOD:PUBLISH
X-ORIGINAL-URL:https://muniserv.ca
X-WR-CALDESC:Events for MuniSERV
REFRESH-INTERVAL;VALUE=DURATION:PT1H
X-Robots-Tag:noindex
X-PUBLISHED-TTL:PT1H
BEGIN:VTIMEZONE
TZID:America/Toronto
BEGIN:DAYLIGHT
TZOFFSETFROM:-0500
TZOFFSETTO:-0400
TZNAME:EDT
DTSTART:20190310T070000
END:DAYLIGHT
BEGIN:STANDARD
TZOFFSETFROM:-0400
TZOFFSETTO:-0500
TZNAME:EST
DTSTART:20191103T060000
END:STANDARD
BEGIN:DAYLIGHT
TZOFFSETFROM:-0500
TZOFFSETTO:-0400
TZNAME:EDT
DTSTART:20200308T070000
END:DAYLIGHT
BEGIN:STANDARD
TZOFFSETFROM:-0400
TZOFFSETTO:-0500
TZNAME:EST
DTSTART:20201101T060000
END:STANDARD
BEGIN:DAYLIGHT
TZOFFSETFROM:-0500
TZOFFSETTO:-0400
TZNAME:EDT
DTSTART:20210314T070000
END:DAYLIGHT
BEGIN:STANDARD
TZOFFSETFROM:-0400
TZOFFSETTO:-0500
TZNAME:EST
DTSTART:20211107T060000
END:STANDARD
END:VTIMEZONE
BEGIN:VEVENT
DTSTART;TZID=America/Toronto:20200407T210000
DTEND;TZID=America/Toronto:20200407T220000
DTSTAMP:20260421T222221
CREATED:20200323T155358Z
LAST-MODIFIED:20200323T164111Z
UID:25030-1586293200-1586296800@muniserv.ca
SUMMARY:Be The Successful Entrepreneur
DESCRIPTION:Be The Successful Entrepreneur \nWhen:  April 7\, 2020 9:00pm – 10:00pm ET \nRegistration Link: https://sagewisdom.levellingup.ca/be-the-successful-entrepreneur/ \nGrow your career in a digital community with Colin Christensen\, Experienced Entrepreneur\, Investor\, and Mentor. \nJoin this live interactive\, convenient\, and affordable alternative to traditional professional development. Find community and development even amidst your self-isolation! \nEntrepreneurship seems like it should be easy: “build a better mousetrap and the world will beat a path to your door”. This has not been true – if not ever – not for a long time. The noise of the market and levels of failure among entrepreneurs is intimidating. \nWe will help you to have the confidence to not only build a business that can work but build any business to work. We can help you avoid the needless failures and be the successful entrepreneur you want to be. \nStarts April 7th Register NOW! \n$53.75/hr\, 8 weekly\, one hour sessions.Max 8 people per group. \nBUY NOW \nLevellingUp will help you bridge the gap between knowing HOW TO do something and MASTERING it. Grow your skills fast alongside an expert and with the support of a trusted small group. \nThe experts you want. The skills you need. Nothing standing in your way.\nwww.LevellingUp.ca \n#LevellingUp #PeopleHelpingPeople #LevelUp #Leadership #Goals
URL:https://muniserv.ca/event/be-the-successful-entrepreneur-2
CATEGORIES:Training Sessions,Webinars
ATTACH;FMTTYPE=image/jpeg:https://muniserv.ca/wp-content/uploads/Be-The-Successful-Entrepreneur.jpg
END:VEVENT
END:VCALENDAR