BEGIN:VCALENDAR
VERSION:2.0
PRODID:-//MuniSERV - ECPv6.15.12.2//NONSGML v1.0//EN
CALSCALE:GREGORIAN
METHOD:PUBLISH
X-ORIGINAL-URL:https://muniserv.ca
X-WR-CALDESC:Events for MuniSERV
REFRESH-INTERVAL;VALUE=DURATION:PT1H
X-Robots-Tag:noindex
X-PUBLISHED-TTL:PT1H
BEGIN:VTIMEZONE
TZID:America/Toronto
BEGIN:DAYLIGHT
TZOFFSETFROM:-0500
TZOFFSETTO:-0400
TZNAME:EDT
DTSTART:20190310T070000
END:DAYLIGHT
BEGIN:STANDARD
TZOFFSETFROM:-0400
TZOFFSETTO:-0500
TZNAME:EST
DTSTART:20191103T060000
END:STANDARD
BEGIN:DAYLIGHT
TZOFFSETFROM:-0500
TZOFFSETTO:-0400
TZNAME:EDT
DTSTART:20200308T070000
END:DAYLIGHT
BEGIN:STANDARD
TZOFFSETFROM:-0400
TZOFFSETTO:-0500
TZNAME:EST
DTSTART:20201101T060000
END:STANDARD
BEGIN:DAYLIGHT
TZOFFSETFROM:-0500
TZOFFSETTO:-0400
TZNAME:EDT
DTSTART:20210314T070000
END:DAYLIGHT
BEGIN:STANDARD
TZOFFSETFROM:-0400
TZOFFSETTO:-0500
TZNAME:EST
DTSTART:20211107T060000
END:STANDARD
END:VTIMEZONE
BEGIN:VEVENT
DTSTART;TZID=America/Toronto:20200609T170000
DTEND;TZID=America/Toronto:20200609T180000
DTSTAMP:20260421T192943
CREATED:20200525T141821Z
LAST-MODIFIED:20200525T141821Z
UID:26088-1591722000-1591725600@muniserv.ca
SUMMARY:Free Webinar - Supplier Relationships – Key to Recovery
DESCRIPTION:COVID-19 Live Chat Series for Supply Chain – Supplier Relationships are Key to Your Recovery \nDate:  June 9th\, 2020 \nTime: 5:00 p.m. EDT \nSupplier Relationships are Key to your Recovery  \nLearn from this session: \n\nHow do you practice agile procurement to support your vendors in delivering added value\, as you build recovery plans\nHow do you take stock of your supplier relationships pre and post COVID-19 in order to plan the future\n\nSpeakers: \nJill Button\, CEO of ProcurePro Consulting Canada\, Co-Founder of ThryvX Consulting\, Ex Shaw Communications\, Rogers Communications\, Aviva \nComplimentary for members and non-members \nEarn 2 CPD Points
URL:https://muniserv.ca/event/free-webinar-supplier-relationships-key-to-recovery
CATEGORIES:Webinars
ATTACH;FMTTYPE=image/jpeg:https://muniserv.ca/wp-content/uploads/scma_primary_logo-1-e1618238305894.jpg
END:VEVENT
END:VCALENDAR