BEGIN:VCALENDAR
VERSION:2.0
PRODID:-//MuniSERV - ECPv6.15.12.2//NONSGML v1.0//EN
CALSCALE:GREGORIAN
METHOD:PUBLISH
X-WR-CALNAME:MuniSERV
X-ORIGINAL-URL:https://muniserv.ca
X-WR-CALDESC:Events for MuniSERV
REFRESH-INTERVAL;VALUE=DURATION:PT1H
X-Robots-Tag:noindex
X-PUBLISHED-TTL:PT1H
BEGIN:VTIMEZONE
TZID:America/Toronto
BEGIN:DAYLIGHT
TZOFFSETFROM:-0500
TZOFFSETTO:-0400
TZNAME:EDT
DTSTART:20190310T070000
END:DAYLIGHT
BEGIN:STANDARD
TZOFFSETFROM:-0400
TZOFFSETTO:-0500
TZNAME:EST
DTSTART:20191103T060000
END:STANDARD
BEGIN:DAYLIGHT
TZOFFSETFROM:-0500
TZOFFSETTO:-0400
TZNAME:EDT
DTSTART:20200308T070000
END:DAYLIGHT
BEGIN:STANDARD
TZOFFSETFROM:-0400
TZOFFSETTO:-0500
TZNAME:EST
DTSTART:20201101T060000
END:STANDARD
BEGIN:DAYLIGHT
TZOFFSETFROM:-0500
TZOFFSETTO:-0400
TZNAME:EDT
DTSTART:20210314T070000
END:DAYLIGHT
BEGIN:STANDARD
TZOFFSETFROM:-0400
TZOFFSETTO:-0500
TZNAME:EST
DTSTART:20211107T060000
END:STANDARD
END:VTIMEZONE
BEGIN:VEVENT
DTSTART;TZID=America/Toronto:20200612T140000
DTEND;TZID=America/Toronto:20200612T150000
DTSTAMP:20260421T192757
CREATED:20200609T120845Z
LAST-MODIFIED:20200609T120845Z
UID:26397-1591970400-1591974000@muniserv.ca
SUMMARY:Free Webinar - Leadership Ask Me Anything
DESCRIPTION:Leadership Ask Me Anything \nFriday\, June 12; 2-3pm ET\nPrice: FREE!\nRegister Here \nLeadership Ask Me Anything\nFree advice from an expert for your business or personal leadership challenges! \nWhat leadership problems are you facing RIGHT NOW?\nBring them to this interactive discussion and get solutions. \nLevellingUp Sage in Residence: Jean Parker (Leadership Coach\, CFO\, Educator\, BBA\, BEd.\, ACC) will offer her advice and insights. \nWhat is LevellingUp?\nMany of us feel abandoned or alone in our leadership roles\, and we’re looking people who can join us on our journey. By combining interactive coaching & collaborative community\, LevellingUp offers a unique\, powerful\, and affordable way for growing professionals to secure success and experience joy.
URL:https://muniserv.ca/event/free-webinar-leadership-ask-me-anything
CATEGORIES:Webinars
ATTACH;FMTTYPE=image/jpeg:https://muniserv.ca/wp-content/uploads/Leadership-Ask-Me-Anything.jpg
END:VEVENT
END:VCALENDAR