BEGIN:VCALENDAR
VERSION:2.0
PRODID:-//MuniSERV - ECPv6.15.12.2//NONSGML v1.0//EN
CALSCALE:GREGORIAN
METHOD:PUBLISH
X-ORIGINAL-URL:https://muniserv.ca
X-WR-CALDESC:Events for MuniSERV
REFRESH-INTERVAL;VALUE=DURATION:PT1H
X-Robots-Tag:noindex
X-PUBLISHED-TTL:PT1H
BEGIN:VTIMEZONE
TZID:America/Toronto
BEGIN:DAYLIGHT
TZOFFSETFROM:-0500
TZOFFSETTO:-0400
TZNAME:EDT
DTSTART:20190310T070000
END:DAYLIGHT
BEGIN:STANDARD
TZOFFSETFROM:-0400
TZOFFSETTO:-0500
TZNAME:EST
DTSTART:20191103T060000
END:STANDARD
BEGIN:DAYLIGHT
TZOFFSETFROM:-0500
TZOFFSETTO:-0400
TZNAME:EDT
DTSTART:20200308T070000
END:DAYLIGHT
BEGIN:STANDARD
TZOFFSETFROM:-0400
TZOFFSETTO:-0500
TZNAME:EST
DTSTART:20201101T060000
END:STANDARD
BEGIN:DAYLIGHT
TZOFFSETFROM:-0500
TZOFFSETTO:-0400
TZNAME:EDT
DTSTART:20210314T070000
END:DAYLIGHT
BEGIN:STANDARD
TZOFFSETFROM:-0400
TZOFFSETTO:-0500
TZNAME:EST
DTSTART:20211107T060000
END:STANDARD
END:VTIMEZONE
BEGIN:VEVENT
DTSTART;TZID=America/Toronto:20200929T163000
DTEND;TZID=America/Toronto:20200929T173000
DTSTAMP:20260421T133251
CREATED:20200901T181825Z
LAST-MODIFIED:20200901T181825Z
UID:27648-1601397000-1601400600@muniserv.ca
SUMMARY:Systemic Racism: What Are You Doing To Bring Change?
DESCRIPTION:Free Live Chat Session \nSystemic Racism: What Are You Doing To Bring Change? \nJoin our Panel discussion about Systemic Racism and learn how to proactively participate in supporting the movement towards equality in your workplace. \nOpening Remarks:\nHugh Lawson\nDirector\, Business Development\, Canada\nStaples \nModerator:\nWael Safwat\nDirector of Procurement\, North America\nBlack & McDonald \nPanelists:\nJason Murray\nPresident and Managing Partner\nBIPOC Executive Search \nTheresa Harrison\nDirector\, Environmental Social Governance Services\, Procurement\, Business Enablement\nErnst & Young LLP \nHugh Amiel\nDirector of Procurement\nUniversity Health Network (UHN) \nOur panelists will share their personal stories and we encourage you to share your story or your question for the panel here \nComplimentary for members and non-members \nEarn 2 CPD Points \nWhen: September 29\, 2020\nWhere: Zoom\nPrice: Free\nREGISTER HERE
URL:https://muniserv.ca/event/systemic-racism-what-are-you-doing-to-bring-change
CATEGORIES:Free Offers,Webinars
ATTACH;FMTTYPE=image/jpeg:https://muniserv.ca/wp-content/uploads/scma_primary_logo-1-e1618238305894.jpg
END:VEVENT
BEGIN:VEVENT
DTSTART;TZID=America/Toronto:20200929T163000
DTEND;TZID=America/Toronto:20200929T183000
DTSTAMP:20260421T133251
CREATED:20200917T142433Z
LAST-MODIFIED:20200917T142433Z
UID:27892-1601397000-1601404200@muniserv.ca
SUMMARY:Free Webinar - Systemic Racism in Supply Chain: What Are You Doing to Bring A Change?
DESCRIPTION:Live Chat Series – Systemic Racism in Supply Chain: What Are You Doing to Bring A Change?\nDate:  September 29\, 2020 \nTime: 4:30 – 6:30 pm EDT \nZoom Virtual Platform – Complimentary Webinar \nJoin our Panel discussion about Systemic Racism and learn how to proactively participate in supporting the movement towards equality in your workplace. \nOpening Remarks:\nHugh Lawson\nDirector\, Business Development\, Canada\nStaples \nModerator:\nWael Safwat\nDirector of Procurement\, North America\nBlack & McDonald \nPanelists:\nJason Murray\nPresident and Managing Partner\nBIPOC Executive Search \nTheresa Harrison\nDirector\, Environmental Social Governance Services\, Procurement\, Business Enablement\nErnst & Young LLP \nHugh Amiel\nDirector of Procurement\nUniversity Health Network (UHN) \nComplimentary for members and non-members \nEarn 2 CPD Points \nRegister here
URL:https://muniserv.ca/event/free-webinar-systemic-racism-in-supply-chain-what-are-you-doing-to-bring-a-change
CATEGORIES:Webinars
ATTACH;FMTTYPE=image/png:https://muniserv.ca/wp-content/uploads/19-2612-Supply_Chain_Canada_Systemic_Racism_August_17_2020.png
END:VEVENT
END:VCALENDAR