BEGIN:VCALENDAR
VERSION:2.0
PRODID:-//MuniSERV - ECPv6.15.12.2//NONSGML v1.0//EN
CALSCALE:GREGORIAN
METHOD:PUBLISH
X-ORIGINAL-URL:https://muniserv.ca
X-WR-CALDESC:Events for MuniSERV
REFRESH-INTERVAL;VALUE=DURATION:PT1H
X-Robots-Tag:noindex
X-PUBLISHED-TTL:PT1H
BEGIN:VTIMEZONE
TZID:America/Toronto
BEGIN:DAYLIGHT
TZOFFSETFROM:-0500
TZOFFSETTO:-0400
TZNAME:EDT
DTSTART:20190310T070000
END:DAYLIGHT
BEGIN:STANDARD
TZOFFSETFROM:-0400
TZOFFSETTO:-0500
TZNAME:EST
DTSTART:20191103T060000
END:STANDARD
BEGIN:DAYLIGHT
TZOFFSETFROM:-0500
TZOFFSETTO:-0400
TZNAME:EDT
DTSTART:20200308T070000
END:DAYLIGHT
BEGIN:STANDARD
TZOFFSETFROM:-0400
TZOFFSETTO:-0500
TZNAME:EST
DTSTART:20201101T060000
END:STANDARD
BEGIN:DAYLIGHT
TZOFFSETFROM:-0500
TZOFFSETTO:-0400
TZNAME:EDT
DTSTART:20210314T070000
END:DAYLIGHT
BEGIN:STANDARD
TZOFFSETFROM:-0400
TZOFFSETTO:-0500
TZNAME:EST
DTSTART:20211107T060000
END:STANDARD
END:VTIMEZONE
BEGIN:VEVENT
DTSTART;TZID=America/Toronto:20201105T053000
DTEND;TZID=America/Toronto:20201105T183000
DTSTAMP:20260421T114347
CREATED:20201022T144127Z
LAST-MODIFIED:20201022T144359Z
UID:28466-1604554200-1604601000@muniserv.ca
SUMMARY:The Art of Mindful Storytelling - How Storytelling can level you up as a leader
DESCRIPTION: \n \nToronto VRA Social Event – The Art of Mindful Storytelling – How Storytelling can level you up as a leader\nOur Volunteer Regional Ambassadors (VRAs) for 2020-21 are finalized and that the regional (virtual) networking events for Fall 2020 are now open for registration. \nPlease welcome our VRAs\, as they are indeed excited to be back and to have the opportunity to meet you all virtually. Our VRAs have planned these events to ensure that the essence of collaboration and learning is retained even though the events take place virtually. \nVRA 2020-201 and Upcoming Regional Networking Events \nThe Art of Mindful Storytelling – How Storytelling can level you up as a leader\nJoin the Toronto VRA’s Dorina Vendramin and Wendy Nguyen as they welcome Co-Founder and VP\, Admit One Productions & Double J Lifestyle\, Jennifer James. Jennifer will teach how storytelling can level YOU up as a leader. \n5:30 pm – 6:30 pm – Presentation by Jennifer James\n6:30 pm – 6:50 pm – Open Q&A \n\nTickets:\nMembers – $10\nNon-Members – $15 \nDate: November 5\, 2020 \nTime:  5:30 p.m. \nLocation:  Zoom Virtual Platform \nLearn More & Register Here
URL:https://muniserv.ca/event/he-art-of-mindful-storytelling-how-storytelling-can-level-you-up-as-a-leader
CATEGORIES:Training Sessions,Webinars
END:VEVENT
END:VCALENDAR