BEGIN:VCALENDAR
VERSION:2.0
PRODID:-//MuniSERV - ECPv6.15.12.2//NONSGML v1.0//EN
CALSCALE:GREGORIAN
METHOD:PUBLISH
X-WR-CALNAME:MuniSERV
X-ORIGINAL-URL:https://muniserv.ca
X-WR-CALDESC:Events for MuniSERV
REFRESH-INTERVAL;VALUE=DURATION:PT1H
X-Robots-Tag:noindex
X-PUBLISHED-TTL:PT1H
BEGIN:VTIMEZONE
TZID:America/Toronto
BEGIN:DAYLIGHT
TZOFFSETFROM:-0500
TZOFFSETTO:-0400
TZNAME:EDT
DTSTART:20190310T070000
END:DAYLIGHT
BEGIN:STANDARD
TZOFFSETFROM:-0400
TZOFFSETTO:-0500
TZNAME:EST
DTSTART:20191103T060000
END:STANDARD
BEGIN:DAYLIGHT
TZOFFSETFROM:-0500
TZOFFSETTO:-0400
TZNAME:EDT
DTSTART:20200308T070000
END:DAYLIGHT
BEGIN:STANDARD
TZOFFSETFROM:-0400
TZOFFSETTO:-0500
TZNAME:EST
DTSTART:20201101T060000
END:STANDARD
BEGIN:DAYLIGHT
TZOFFSETFROM:-0500
TZOFFSETTO:-0400
TZNAME:EDT
DTSTART:20210314T070000
END:DAYLIGHT
BEGIN:STANDARD
TZOFFSETFROM:-0400
TZOFFSETTO:-0500
TZNAME:EST
DTSTART:20211107T060000
END:STANDARD
END:VTIMEZONE
BEGIN:VEVENT
DTSTART;TZID=America/Toronto:20201112T190000
DTEND;TZID=America/Toronto:20201112T203000
DTSTAMP:20260421T115452
CREATED:20201022T145657Z
LAST-MODIFIED:20201022T145657Z
UID:28470-1605207600-1605213000@muniserv.ca
SUMMARY:Durham VRA Social Event
DESCRIPTION:  \nDurham VRA Social Event \nOur Volunteer Regional Ambassadors (VRAs) for 2020-21 are finalized and that the regional (virtual) networking events for Fall 2020 are now open for registration. \nPlease welcome our VRAs\, as they are indeed excited to be back and to have the opportunity to meet you all virtually. Our VRAs have planned these events to ensure that the essence of collaboration and learning is retained even though the events take place virtually. \nVRA 2020-201 and Upcoming Regional Networking Events \n7:00 PM – 7:10 PM EST – Opening of the event and Durham VRA Introduction \n7:10 PM – 7:40 PM EST  – Presentation \nStephanie Lin\nFounder and CEO – Smart Living 365 \n7:45 PM EST – 8:30 PM EST – Networking \nTickets:\nMembers – $10\nNon-Members – $15 \nDate: November 12\, 2020 \nTime:7:00 p.m. \nLocation: Zoom Virtual Platform \nLearn More & Register \n 
URL:https://muniserv.ca/event/durham-vra-social-event
CATEGORIES:Webinars
END:VEVENT
END:VCALENDAR