BEGIN:VCALENDAR
VERSION:2.0
PRODID:-//MuniSERV - ECPv6.15.12.2//NONSGML v1.0//EN
CALSCALE:GREGORIAN
METHOD:PUBLISH
X-WR-CALNAME:MuniSERV
X-ORIGINAL-URL:https://muniserv.ca
X-WR-CALDESC:Events for MuniSERV
REFRESH-INTERVAL;VALUE=DURATION:PT1H
X-Robots-Tag:noindex
X-PUBLISHED-TTL:PT1H
BEGIN:VTIMEZONE
TZID:America/Toronto
BEGIN:DAYLIGHT
TZOFFSETFROM:-0500
TZOFFSETTO:-0400
TZNAME:EDT
DTSTART:20200308T070000
END:DAYLIGHT
BEGIN:STANDARD
TZOFFSETFROM:-0400
TZOFFSETTO:-0500
TZNAME:EST
DTSTART:20201101T060000
END:STANDARD
BEGIN:DAYLIGHT
TZOFFSETFROM:-0500
TZOFFSETTO:-0400
TZNAME:EDT
DTSTART:20210314T070000
END:DAYLIGHT
BEGIN:STANDARD
TZOFFSETFROM:-0400
TZOFFSETTO:-0500
TZNAME:EST
DTSTART:20211107T060000
END:STANDARD
BEGIN:DAYLIGHT
TZOFFSETFROM:-0500
TZOFFSETTO:-0400
TZNAME:EDT
DTSTART:20220313T070000
END:DAYLIGHT
BEGIN:STANDARD
TZOFFSETFROM:-0400
TZOFFSETTO:-0500
TZNAME:EST
DTSTART:20221106T060000
END:STANDARD
END:VTIMEZONE
BEGIN:VEVENT
DTSTART;TZID=America/Toronto:20210127T113000
DTEND;TZID=America/Toronto:20210127T123000
DTSTAMP:20260421T083207
CREATED:20201203T130256Z
LAST-MODIFIED:20201203T130256Z
UID:28898-1611747000-1611750600@muniserv.ca
SUMMARY:Everything You Need to Know about Municipal Procurement in 30 Minutes
DESCRIPTION:The Procurement Drop-In – Monthly Call-In Show\nJoin us for an interactive 30-40 minute presentation on relevant topics in by experts who work in the field of municipal procurement. Stick around after each session to get answers to your burning questions! \nComplementary Training Session #1 – Everything You Need to Know about Municipal Procurement in 30 Minutes \nA 30-minutes overview of all you need to know about municipal procurement law\, including key common law principles and the main trade agreements and where the risks lie for municipalities. \nWhat You’ll Learn: Key principles of municipal procurement law and common pitfalls to avoid! \nRegister here. \nNote:  This is a series of six (6) complementary training sessions on municipal procurement. Be sure to check out the others here.
URL:https://muniserv.ca/event/everything-you-need-to-know-about-municipal-procurement-in-30-minutes
CATEGORIES:Training Sessions,Webinars
ATTACH;FMTTYPE=image/jpeg:https://muniserv.ca/wp-content/uploads/Procurement-1AdobeStock_222040825-002-scaled.jpeg
END:VEVENT
END:VCALENDAR