BEGIN:VCALENDAR
VERSION:2.0
PRODID:-//MuniSERV - ECPv6.15.12.2//NONSGML v1.0//EN
CALSCALE:GREGORIAN
METHOD:PUBLISH
X-ORIGINAL-URL:https://muniserv.ca
X-WR-CALDESC:Events for MuniSERV
REFRESH-INTERVAL;VALUE=DURATION:PT1H
X-Robots-Tag:noindex
X-PUBLISHED-TTL:PT1H
BEGIN:VTIMEZONE
TZID:America/Toronto
BEGIN:DAYLIGHT
TZOFFSETFROM:-0500
TZOFFSETTO:-0400
TZNAME:EDT
DTSTART:20200308T070000
END:DAYLIGHT
BEGIN:STANDARD
TZOFFSETFROM:-0400
TZOFFSETTO:-0500
TZNAME:EST
DTSTART:20201101T060000
END:STANDARD
BEGIN:DAYLIGHT
TZOFFSETFROM:-0500
TZOFFSETTO:-0400
TZNAME:EDT
DTSTART:20210314T070000
END:DAYLIGHT
BEGIN:STANDARD
TZOFFSETFROM:-0400
TZOFFSETTO:-0500
TZNAME:EST
DTSTART:20211107T060000
END:STANDARD
BEGIN:DAYLIGHT
TZOFFSETFROM:-0500
TZOFFSETTO:-0400
TZNAME:EDT
DTSTART:20220313T070000
END:DAYLIGHT
BEGIN:STANDARD
TZOFFSETFROM:-0400
TZOFFSETTO:-0500
TZNAME:EST
DTSTART:20221106T060000
END:STANDARD
END:VTIMEZONE
BEGIN:VEVENT
DTSTART;TZID=America/Toronto:20210224T113000
DTEND;TZID=America/Toronto:20210224T123000
DTSTAMP:20260421T063341
CREATED:20201203T130557Z
LAST-MODIFIED:20210210T191015Z
UID:28900-1614166200-1614169800@muniserv.ca
SUMMARY:Finding Efficiencies in Procurement
DESCRIPTION:The Procurement Drop-In – Monthly Call-In Show\nJoin us for an interactive 30-40 minute presentation on relevant topics in by experts who work in the field of municipal procurement. Stick around after each session to get answers to your burning questions! \nComplementary Training Session #2 – Finding Efficiencies in Procurement \nDone poorly\, procurement can be a time and resource consuming activity. This session will provide low-lying fruit strategies to streamline procurement efforts while still ensuring compliance.    \n What You’ll Learn: Common strategies used to streamline procurement and lower transaction costs. \nHere’s an article from the Toronto Star on how the Municipality of Brockton recently updated its procurement policy to find efficiencies. \nRegister here \nThis is one of six (6) complimentary training sessions on municipal procurement.  Be sure to check out the others here.
URL:https://muniserv.ca/event/finding-efficiencies-in-procurement
CATEGORIES:Training Sessions,Webinars
ATTACH;FMTTYPE=image/jpeg:https://muniserv.ca/wp-content/uploads/Procurment-Efficiencies-AdobeStock_107959890-002-scaled.jpeg
END:VEVENT
END:VCALENDAR