BEGIN:VCALENDAR
VERSION:2.0
PRODID:-//MuniSERV - ECPv6.15.12.2//NONSGML v1.0//EN
CALSCALE:GREGORIAN
METHOD:PUBLISH
X-WR-CALNAME:MuniSERV
X-ORIGINAL-URL:https://muniserv.ca
X-WR-CALDESC:Events for MuniSERV
REFRESH-INTERVAL;VALUE=DURATION:PT1H
X-Robots-Tag:noindex
X-PUBLISHED-TTL:PT1H
BEGIN:VTIMEZONE
TZID:America/Toronto
BEGIN:DAYLIGHT
TZOFFSETFROM:-0500
TZOFFSETTO:-0400
TZNAME:EDT
DTSTART:20200308T070000
END:DAYLIGHT
BEGIN:STANDARD
TZOFFSETFROM:-0400
TZOFFSETTO:-0500
TZNAME:EST
DTSTART:20201101T060000
END:STANDARD
BEGIN:DAYLIGHT
TZOFFSETFROM:-0500
TZOFFSETTO:-0400
TZNAME:EDT
DTSTART:20210314T070000
END:DAYLIGHT
BEGIN:STANDARD
TZOFFSETFROM:-0400
TZOFFSETTO:-0500
TZNAME:EST
DTSTART:20211107T060000
END:STANDARD
BEGIN:DAYLIGHT
TZOFFSETFROM:-0500
TZOFFSETTO:-0400
TZNAME:EDT
DTSTART:20220313T070000
END:DAYLIGHT
BEGIN:STANDARD
TZOFFSETFROM:-0400
TZOFFSETTO:-0500
TZNAME:EST
DTSTART:20221106T060000
END:STANDARD
END:VTIMEZONE
BEGIN:VEVENT
DTSTART;TZID=America/Toronto:20210305T130000
DTEND;TZID=America/Toronto:20210305T140000
DTSTAMP:20260421T050044
CREATED:20210223T132249Z
LAST-MODIFIED:20210223T132249Z
UID:30595-1614949200-1614952800@muniserv.ca
SUMMARY:Canada Healthy Communities Initiative Webinar
DESCRIPTION:Canada Healthy Communities Initiative Webinar – March 5\n\nDescription \nThe Government of Canada has announced that the Community Foundations of Canada\, along with the Canadian Urban Institute\, are now accepting proposals for access to $31 million under the Healthy Communities Initiative. Please join us on Friday\, March 5th at 1 p.m. EST for a hands-on webinar as we walk through how to apply and share ideas from communities that use Penelope software to assist those most affected by COVID-19.\n\nTime \n\nMar 5\, 2021 01:00 PM in Eastern Time (US and Canada) \nLearn more by viewing our recent article. \nRegister here
URL:https://muniserv.ca/event/canada-healthy-communities-initiative-webinar
CATEGORIES:Training Sessions,Webinars
ATTACH;FMTTYPE=image/png:https://muniserv.ca/wp-content/uploads/928b6f1b-6ad3-4350-928c-d998b7ad2af1.png
END:VEVENT
END:VCALENDAR