BEGIN:VCALENDAR
VERSION:2.0
PRODID:-//MuniSERV - ECPv6.15.12.2//NONSGML v1.0//EN
CALSCALE:GREGORIAN
METHOD:PUBLISH
X-ORIGINAL-URL:https://muniserv.ca
X-WR-CALDESC:Events for MuniSERV
REFRESH-INTERVAL;VALUE=DURATION:PT1H
X-Robots-Tag:noindex
X-PUBLISHED-TTL:PT1H
BEGIN:VTIMEZONE
TZID:America/Toronto
BEGIN:DAYLIGHT
TZOFFSETFROM:-0500
TZOFFSETTO:-0400
TZNAME:EDT
DTSTART:20200308T070000
END:DAYLIGHT
BEGIN:STANDARD
TZOFFSETFROM:-0400
TZOFFSETTO:-0500
TZNAME:EST
DTSTART:20201101T060000
END:STANDARD
BEGIN:DAYLIGHT
TZOFFSETFROM:-0500
TZOFFSETTO:-0400
TZNAME:EDT
DTSTART:20210314T070000
END:DAYLIGHT
BEGIN:STANDARD
TZOFFSETFROM:-0400
TZOFFSETTO:-0500
TZNAME:EST
DTSTART:20211107T060000
END:STANDARD
BEGIN:DAYLIGHT
TZOFFSETFROM:-0500
TZOFFSETTO:-0400
TZNAME:EDT
DTSTART:20220313T070000
END:DAYLIGHT
BEGIN:STANDARD
TZOFFSETFROM:-0400
TZOFFSETTO:-0500
TZNAME:EST
DTSTART:20221106T060000
END:STANDARD
END:VTIMEZONE
BEGIN:VEVENT
DTSTART;TZID=America/Toronto:20210308T120000
DTEND;TZID=America/Toronto:20210308T123000
DTSTAMP:20260421T050552
CREATED:20210227T181447Z
LAST-MODIFIED:20210227T181447Z
UID:30654-1615204800-1615206600@muniserv.ca
SUMMARY:Free Webinar- Up Your Game: Choose to Challenge Yourself
DESCRIPTION:In Celebration of International Women’s Day on March 8 – Prism Group Int’n presents: \nIWD2021 “Up Your Game: Choose to Challenge Yourself” \n\n\nYou likely seldom question your attitudes\, perceptions and beliefs. It’s difficult and challenging to see the world through a lens that is not of your making. Yet\, sometimes your biases and lenses get in the way of your own fulfillment and success because of the level of “fact” you place on them either consciously or unconsciously.\n\n\n\n\nSo\, Up Your Game: Choose to Challenge Yourself! \n\n\n\n\n\nLearn More about this special complimentary webinar\, in celebration of International Women’s Day! \n\n\n\nJoin me\, Sophie Mathewson\, PCC\, Strategic Advisor & Coach – on Monday\, March 8th at noon (EST) for a virtual Brown Bag Lunch n’ Learn \nRegister Here!
URL:https://muniserv.ca/event/free-webinar-up-your-game-choose-to-challenge-yourself
CATEGORIES:Webinars
ATTACH;FMTTYPE=image/jpeg:https://muniserv.ca/wp-content/uploads/IWD-2021_PrismGroup-e1614449574240.jpg
END:VEVENT
END:VCALENDAR