BEGIN:VCALENDAR
VERSION:2.0
PRODID:-//MuniSERV - ECPv6.15.12.2//NONSGML v1.0//EN
CALSCALE:GREGORIAN
METHOD:PUBLISH
X-WR-CALNAME:MuniSERV
X-ORIGINAL-URL:https://muniserv.ca
X-WR-CALDESC:Events for MuniSERV
REFRESH-INTERVAL;VALUE=DURATION:PT1H
X-Robots-Tag:noindex
X-PUBLISHED-TTL:PT1H
BEGIN:VTIMEZONE
TZID:America/Toronto
BEGIN:DAYLIGHT
TZOFFSETFROM:-0500
TZOFFSETTO:-0400
TZNAME:EDT
DTSTART:20200308T070000
END:DAYLIGHT
BEGIN:STANDARD
TZOFFSETFROM:-0400
TZOFFSETTO:-0500
TZNAME:EST
DTSTART:20201101T060000
END:STANDARD
BEGIN:DAYLIGHT
TZOFFSETFROM:-0500
TZOFFSETTO:-0400
TZNAME:EDT
DTSTART:20210314T070000
END:DAYLIGHT
BEGIN:STANDARD
TZOFFSETFROM:-0400
TZOFFSETTO:-0500
TZNAME:EST
DTSTART:20211107T060000
END:STANDARD
BEGIN:DAYLIGHT
TZOFFSETFROM:-0500
TZOFFSETTO:-0400
TZNAME:EDT
DTSTART:20220313T070000
END:DAYLIGHT
BEGIN:STANDARD
TZOFFSETFROM:-0400
TZOFFSETTO:-0500
TZNAME:EST
DTSTART:20221106T060000
END:STANDARD
END:VTIMEZONE
BEGIN:VEVENT
DTSTART;TZID=America/Toronto:20210415T120000
DTEND;TZID=America/Toronto:20210415T130000
DTSTAMP:20260420T004934
CREATED:20210407T120332Z
LAST-MODIFIED:20210407T130539Z
UID:31194-1618488000-1618491600@muniserv.ca
SUMMARY:Customer Service Excellence - Maximizing Efficiency and Improving Customer Service
DESCRIPTION:April 15th 12pm – 1 pm EST \nCustomer Service Excellence – Maximizing Efficiency and Improving Customer Service \nAccessE11 Citizen Issue Management – Municipal 311 Software Designed for Local Government \nProduce better relationships with citizens through automated status updates with a highly-integrated platform your staff will love. \n\nIs your municipality looking for ways to improve your complaint and service request management?\nDo you want to better understand the issues citizens are bringing to your municipality?\nWould you like for your citizens to be able to view and update the issues they bring to your municipality?\nWould you like valuable reports for your department heads and council?\nHow about collaborating with staff on the issues they are managing?\nWant to streamline services requests and effectively manage them?\n\nAccessE11 is a cloud-based\, easy-to-use software solution to assist municipalities in better managing\, tracking and reporting citizen inquiries\, issues and complaints impacting your community. \nRegister for our April Webinar to learn about all of this and more! \nPresented in Partnership with The Ontario Municipal Leadership Institute \n           
URL:https://muniserv.ca/event/customer-service-excellence-maximizing-efficiency-and-improving-customer-service-3
CATEGORIES:Training Sessions,Webinars
ATTACH;FMTTYPE=image/jpeg:https://muniserv.ca/wp-content/uploads/citizen-engagement-002.jpg
END:VEVENT
END:VCALENDAR