BEGIN:VCALENDAR
VERSION:2.0
PRODID:-//MuniSERV - ECPv6.15.12.2//NONSGML v1.0//EN
CALSCALE:GREGORIAN
METHOD:PUBLISH
X-ORIGINAL-URL:https://muniserv.ca
X-WR-CALDESC:Events for MuniSERV
REFRESH-INTERVAL;VALUE=DURATION:PT1H
X-Robots-Tag:noindex
X-PUBLISHED-TTL:PT1H
BEGIN:VTIMEZONE
TZID:America/Toronto
BEGIN:DAYLIGHT
TZOFFSETFROM:-0500
TZOFFSETTO:-0400
TZNAME:EDT
DTSTART:20200308T070000
END:DAYLIGHT
BEGIN:STANDARD
TZOFFSETFROM:-0400
TZOFFSETTO:-0500
TZNAME:EST
DTSTART:20201101T060000
END:STANDARD
BEGIN:DAYLIGHT
TZOFFSETFROM:-0500
TZOFFSETTO:-0400
TZNAME:EDT
DTSTART:20210314T070000
END:DAYLIGHT
BEGIN:STANDARD
TZOFFSETFROM:-0400
TZOFFSETTO:-0500
TZNAME:EST
DTSTART:20211107T060000
END:STANDARD
BEGIN:DAYLIGHT
TZOFFSETFROM:-0500
TZOFFSETTO:-0400
TZNAME:EDT
DTSTART:20220313T070000
END:DAYLIGHT
BEGIN:STANDARD
TZOFFSETFROM:-0400
TZOFFSETTO:-0500
TZNAME:EST
DTSTART:20221106T060000
END:STANDARD
END:VTIMEZONE
BEGIN:VEVENT
DTSTART;TZID=America/Toronto:20210422T130000
DTEND;TZID=America/Toronto:20210422T140000
DTSTAMP:20260419T131637
CREATED:20210324T183016Z
LAST-MODIFIED:20210324T183016Z
UID:30996-1619096400-1619100000@muniserv.ca
SUMMARY:Digital Speaker Series - An Introduction to Surety Bonds
DESCRIPTION:bids&tenders Digital Speaker Series \nAn Introduction to Surety Bonds \nPresented in partnership with the Surety Association of Canada\, Steve Ness and Sharon Clark-Koufis have been invited to speak on the growing prevalence of e-bonding.  \n\n\nThis one-hour session will cover the following topics: \n\nOverview of Surety Bonds – What are they? How do they work?\nIn-depth review of standard construction bonds\nE-bonds – What are they? What are the benefits?\nMyths & misconceptions of surety bonds\nContractor default – what happens during the claim process?\nBonds for non-construction obligations (e.g.. maintenance/service contracts)\nQ&A\n\nRegister now for an overview of surety bonds\, including a discussion on e-bonding and the myths & misconceptions of surety bonds. Thurs Apr 22 at 1:00 PM ET.
URL:https://muniserv.ca/event/digital-speaker-series-an-introduction-to-surety-bonds
CATEGORIES:Webinars
END:VEVENT
END:VCALENDAR